BEGIN:VCALENDAR
VERSION:2.0
PRODID:-//Episcopal Diocese of Vermont - ECPv6.15.20//NONSGML v1.0//EN
CALSCALE:GREGORIAN
METHOD:PUBLISH
X-ORIGINAL-URL:https://diovermont.org
X-WR-CALDESC:Events for Episcopal Diocese of Vermont
REFRESH-INTERVAL;VALUE=DURATION:PT1H
X-Robots-Tag:noindex
X-PUBLISHED-TTL:PT1H
BEGIN:VTIMEZONE
TZID:America/New_York
BEGIN:DAYLIGHT
TZOFFSETFROM:-0500
TZOFFSETTO:-0400
TZNAME:EDT
DTSTART:20280312T070000
END:DAYLIGHT
BEGIN:STANDARD
TZOFFSETFROM:-0400
TZOFFSETTO:-0500
TZNAME:EST
DTSTART:20281105T060000
END:STANDARD
BEGIN:DAYLIGHT
TZOFFSETFROM:-0500
TZOFFSETTO:-0400
TZNAME:EDT
DTSTART:20290311T070000
END:DAYLIGHT
BEGIN:STANDARD
TZOFFSETFROM:-0400
TZOFFSETTO:-0500
TZNAME:EST
DTSTART:20291104T060000
END:STANDARD
BEGIN:DAYLIGHT
TZOFFSETFROM:-0500
TZOFFSETTO:-0400
TZNAME:EDT
DTSTART:20300310T070000
END:DAYLIGHT
BEGIN:STANDARD
TZOFFSETFROM:-0400
TZOFFSETTO:-0500
TZNAME:EST
DTSTART:20301103T060000
END:STANDARD
END:VTIMEZONE
BEGIN:VEVENT
DTSTART;TZID=America/New_York:20290507T200000
DTEND;TZID=America/New_York:20290507T203000
DTSTAMP:20260422T185344
CREATED:20240823T163602Z
LAST-MODIFIED:20240830T144825Z
UID:10001813-1872878400-1872880200@diovermont.org
SUMMARY:Evening Prayer with Green Mountain Abbey
DESCRIPTION:The Green Mountain Online Abbey provides a daily offering of online prayer at 8:00 a.m. and 8:00 p.m. Monday through Saturday and 8:00 p.m. Sunday. \nPlease visit the Green Mountain Online Abbey page for more information including call-in instructions and bulletin downloads.
URL:https://diovermont.org/event/evening-prayer-with-green-mountain-abbey/2029-05-07/
LOCATION:Online
CATEGORIES:Green Mountain Online Abbey
ATTACH;FMTTYPE=image/png:https://diovermont.org/wp-content/uploads/2021/01/Screen-Shot-2021-01-07-at-3.40.48-PM.png
END:VEVENT
BEGIN:VEVENT
DTSTART;TZID=America/New_York:20290508T080000
DTEND;TZID=America/New_York:20290508T083000
DTSTAMP:20260422T185344
CREATED:20240823T163430Z
LAST-MODIFIED:20240830T144628Z
UID:10003420-1872921600-1872923400@diovermont.org
SUMMARY:Morning Prayer with Green Mountain Abbey
DESCRIPTION:The Green Mountain Online Abbey provides a daily offering of online prayer at 8:00 a.m. and 8:00 p.m. Monday through Saturday and 8:00 p.m. Sunday. \nPlease visit the Green Mountain Online Abbey page for more information including call-in instructions and bulletin downloads.
URL:https://diovermont.org/event/morning-prayer-with-green-mountain-abbey/2029-05-08/
LOCATION:Online
CATEGORIES:Green Mountain Online Abbey
ATTACH;FMTTYPE=image/png:https://diovermont.org/wp-content/uploads/2021/01/Screen-Shot-2021-01-07-at-3.40.48-PM.png
END:VEVENT
BEGIN:VEVENT
DTSTART;TZID=America/New_York:20290508T200000
DTEND;TZID=America/New_York:20290508T203000
DTSTAMP:20260422T185344
CREATED:20240823T163602Z
LAST-MODIFIED:20240830T144825Z
UID:10001814-1872964800-1872966600@diovermont.org
SUMMARY:Evening Prayer with Green Mountain Abbey
DESCRIPTION:The Green Mountain Online Abbey provides a daily offering of online prayer at 8:00 a.m. and 8:00 p.m. Monday through Saturday and 8:00 p.m. Sunday. \nPlease visit the Green Mountain Online Abbey page for more information including call-in instructions and bulletin downloads.
URL:https://diovermont.org/event/evening-prayer-with-green-mountain-abbey/2029-05-08/
LOCATION:Online
CATEGORIES:Green Mountain Online Abbey
ATTACH;FMTTYPE=image/png:https://diovermont.org/wp-content/uploads/2021/01/Screen-Shot-2021-01-07-at-3.40.48-PM.png
END:VEVENT
BEGIN:VEVENT
DTSTART;TZID=America/New_York:20290509T080000
DTEND;TZID=America/New_York:20290509T083000
DTSTAMP:20260422T185344
CREATED:20240823T163430Z
LAST-MODIFIED:20240830T144628Z
UID:10003421-1873008000-1873009800@diovermont.org
SUMMARY:Morning Prayer with Green Mountain Abbey
DESCRIPTION:The Green Mountain Online Abbey provides a daily offering of online prayer at 8:00 a.m. and 8:00 p.m. Monday through Saturday and 8:00 p.m. Sunday. \nPlease visit the Green Mountain Online Abbey page for more information including call-in instructions and bulletin downloads.
URL:https://diovermont.org/event/morning-prayer-with-green-mountain-abbey/2029-05-09/
LOCATION:Online
CATEGORIES:Green Mountain Online Abbey
ATTACH;FMTTYPE=image/png:https://diovermont.org/wp-content/uploads/2021/01/Screen-Shot-2021-01-07-at-3.40.48-PM.png
END:VEVENT
BEGIN:VEVENT
DTSTART;TZID=America/New_York:20290509T200000
DTEND;TZID=America/New_York:20290509T203000
DTSTAMP:20260422T185344
CREATED:20240823T163602Z
LAST-MODIFIED:20240830T144825Z
UID:10001815-1873051200-1873053000@diovermont.org
SUMMARY:Evening Prayer with Green Mountain Abbey
DESCRIPTION:The Green Mountain Online Abbey provides a daily offering of online prayer at 8:00 a.m. and 8:00 p.m. Monday through Saturday and 8:00 p.m. Sunday. \nPlease visit the Green Mountain Online Abbey page for more information including call-in instructions and bulletin downloads.
URL:https://diovermont.org/event/evening-prayer-with-green-mountain-abbey/2029-05-09/
LOCATION:Online
CATEGORIES:Green Mountain Online Abbey
ATTACH;FMTTYPE=image/png:https://diovermont.org/wp-content/uploads/2021/01/Screen-Shot-2021-01-07-at-3.40.48-PM.png
END:VEVENT
BEGIN:VEVENT
DTSTART;TZID=America/New_York:20290510T080000
DTEND;TZID=America/New_York:20290510T083000
DTSTAMP:20260422T185344
CREATED:20240823T163430Z
LAST-MODIFIED:20240830T144628Z
UID:10003422-1873094400-1873096200@diovermont.org
SUMMARY:Morning Prayer with Green Mountain Abbey
DESCRIPTION:The Green Mountain Online Abbey provides a daily offering of online prayer at 8:00 a.m. and 8:00 p.m. Monday through Saturday and 8:00 p.m. Sunday. \nPlease visit the Green Mountain Online Abbey page for more information including call-in instructions and bulletin downloads.
URL:https://diovermont.org/event/morning-prayer-with-green-mountain-abbey/2029-05-10/
LOCATION:Online
CATEGORIES:Green Mountain Online Abbey
ATTACH;FMTTYPE=image/png:https://diovermont.org/wp-content/uploads/2021/01/Screen-Shot-2021-01-07-at-3.40.48-PM.png
END:VEVENT
BEGIN:VEVENT
DTSTART;TZID=America/New_York:20290510T200000
DTEND;TZID=America/New_York:20290510T203000
DTSTAMP:20260422T185344
CREATED:20240823T163602Z
LAST-MODIFIED:20240830T144825Z
UID:10001816-1873137600-1873139400@diovermont.org
SUMMARY:Evening Prayer with Green Mountain Abbey
DESCRIPTION:The Green Mountain Online Abbey provides a daily offering of online prayer at 8:00 a.m. and 8:00 p.m. Monday through Saturday and 8:00 p.m. Sunday. \nPlease visit the Green Mountain Online Abbey page for more information including call-in instructions and bulletin downloads.
URL:https://diovermont.org/event/evening-prayer-with-green-mountain-abbey/2029-05-10/
LOCATION:Online
CATEGORIES:Green Mountain Online Abbey
ATTACH;FMTTYPE=image/png:https://diovermont.org/wp-content/uploads/2021/01/Screen-Shot-2021-01-07-at-3.40.48-PM.png
END:VEVENT
BEGIN:VEVENT
DTSTART;TZID=America/New_York:20290511T080000
DTEND;TZID=America/New_York:20290511T083000
DTSTAMP:20260422T185344
CREATED:20240823T163430Z
LAST-MODIFIED:20240830T144628Z
UID:10003423-1873180800-1873182600@diovermont.org
SUMMARY:Morning Prayer with Green Mountain Abbey
DESCRIPTION:The Green Mountain Online Abbey provides a daily offering of online prayer at 8:00 a.m. and 8:00 p.m. Monday through Saturday and 8:00 p.m. Sunday. \nPlease visit the Green Mountain Online Abbey page for more information including call-in instructions and bulletin downloads.
URL:https://diovermont.org/event/morning-prayer-with-green-mountain-abbey/2029-05-11/
LOCATION:Online
CATEGORIES:Green Mountain Online Abbey
ATTACH;FMTTYPE=image/png:https://diovermont.org/wp-content/uploads/2021/01/Screen-Shot-2021-01-07-at-3.40.48-PM.png
END:VEVENT
BEGIN:VEVENT
DTSTART;TZID=America/New_York:20290511T200000
DTEND;TZID=America/New_York:20290511T203000
DTSTAMP:20260422T185344
CREATED:20240823T163602Z
LAST-MODIFIED:20240830T144825Z
UID:10001817-1873224000-1873225800@diovermont.org
SUMMARY:Evening Prayer with Green Mountain Abbey
DESCRIPTION:The Green Mountain Online Abbey provides a daily offering of online prayer at 8:00 a.m. and 8:00 p.m. Monday through Saturday and 8:00 p.m. Sunday. \nPlease visit the Green Mountain Online Abbey page for more information including call-in instructions and bulletin downloads.
URL:https://diovermont.org/event/evening-prayer-with-green-mountain-abbey/2029-05-11/
LOCATION:Online
CATEGORIES:Green Mountain Online Abbey
ATTACH;FMTTYPE=image/png:https://diovermont.org/wp-content/uploads/2021/01/Screen-Shot-2021-01-07-at-3.40.48-PM.png
END:VEVENT
BEGIN:VEVENT
DTSTART;TZID=America/New_York:20290512T080000
DTEND;TZID=America/New_York:20290512T083000
DTSTAMP:20260422T185344
CREATED:20240823T163430Z
LAST-MODIFIED:20240830T144628Z
UID:10003424-1873267200-1873269000@diovermont.org
SUMMARY:Morning Prayer with Green Mountain Abbey
DESCRIPTION:The Green Mountain Online Abbey provides a daily offering of online prayer at 8:00 a.m. and 8:00 p.m. Monday through Saturday and 8:00 p.m. Sunday. \nPlease visit the Green Mountain Online Abbey page for more information including call-in instructions and bulletin downloads.
URL:https://diovermont.org/event/morning-prayer-with-green-mountain-abbey/2029-05-12/
LOCATION:Online
CATEGORIES:Green Mountain Online Abbey
ATTACH;FMTTYPE=image/png:https://diovermont.org/wp-content/uploads/2021/01/Screen-Shot-2021-01-07-at-3.40.48-PM.png
END:VEVENT
BEGIN:VEVENT
DTSTART;TZID=America/New_York:20290512T200000
DTEND;TZID=America/New_York:20290512T203000
DTSTAMP:20260422T185344
CREATED:20240823T163602Z
LAST-MODIFIED:20240830T144825Z
UID:10001818-1873310400-1873312200@diovermont.org
SUMMARY:Evening Prayer with Green Mountain Abbey
DESCRIPTION:The Green Mountain Online Abbey provides a daily offering of online prayer at 8:00 a.m. and 8:00 p.m. Monday through Saturday and 8:00 p.m. Sunday. \nPlease visit the Green Mountain Online Abbey page for more information including call-in instructions and bulletin downloads.
URL:https://diovermont.org/event/evening-prayer-with-green-mountain-abbey/2029-05-12/
LOCATION:Online
CATEGORIES:Green Mountain Online Abbey
ATTACH;FMTTYPE=image/png:https://diovermont.org/wp-content/uploads/2021/01/Screen-Shot-2021-01-07-at-3.40.48-PM.png
END:VEVENT
BEGIN:VEVENT
DTSTART;TZID=America/New_York:20290513T200000
DTEND;TZID=America/New_York:20290513T203000
DTSTAMP:20260422T185344
CREATED:20240823T163602Z
LAST-MODIFIED:20240830T144825Z
UID:10001819-1873396800-1873398600@diovermont.org
SUMMARY:Evening Prayer with Green Mountain Abbey
DESCRIPTION:The Green Mountain Online Abbey provides a daily offering of online prayer at 8:00 a.m. and 8:00 p.m. Monday through Saturday and 8:00 p.m. Sunday. \nPlease visit the Green Mountain Online Abbey page for more information including call-in instructions and bulletin downloads.
URL:https://diovermont.org/event/evening-prayer-with-green-mountain-abbey/2029-05-13/
LOCATION:Online
CATEGORIES:Green Mountain Online Abbey
ATTACH;FMTTYPE=image/png:https://diovermont.org/wp-content/uploads/2021/01/Screen-Shot-2021-01-07-at-3.40.48-PM.png
END:VEVENT
BEGIN:VEVENT
DTSTART;TZID=America/New_York:20290514T080000
DTEND;TZID=America/New_York:20290514T083000
DTSTAMP:20260422T185344
CREATED:20240823T163430Z
LAST-MODIFIED:20240830T144628Z
UID:10003425-1873440000-1873441800@diovermont.org
SUMMARY:Morning Prayer with Green Mountain Abbey
DESCRIPTION:The Green Mountain Online Abbey provides a daily offering of online prayer at 8:00 a.m. and 8:00 p.m. Monday through Saturday and 8:00 p.m. Sunday. \nPlease visit the Green Mountain Online Abbey page for more information including call-in instructions and bulletin downloads.
URL:https://diovermont.org/event/morning-prayer-with-green-mountain-abbey/2029-05-14/
LOCATION:Online
CATEGORIES:Green Mountain Online Abbey
ATTACH;FMTTYPE=image/png:https://diovermont.org/wp-content/uploads/2021/01/Screen-Shot-2021-01-07-at-3.40.48-PM.png
END:VEVENT
BEGIN:VEVENT
DTSTART;TZID=America/New_York:20290514T200000
DTEND;TZID=America/New_York:20290514T203000
DTSTAMP:20260422T185344
CREATED:20240823T163602Z
LAST-MODIFIED:20240830T144825Z
UID:10001820-1873483200-1873485000@diovermont.org
SUMMARY:Evening Prayer with Green Mountain Abbey
DESCRIPTION:The Green Mountain Online Abbey provides a daily offering of online prayer at 8:00 a.m. and 8:00 p.m. Monday through Saturday and 8:00 p.m. Sunday. \nPlease visit the Green Mountain Online Abbey page for more information including call-in instructions and bulletin downloads.
URL:https://diovermont.org/event/evening-prayer-with-green-mountain-abbey/2029-05-14/
LOCATION:Online
CATEGORIES:Green Mountain Online Abbey
ATTACH;FMTTYPE=image/png:https://diovermont.org/wp-content/uploads/2021/01/Screen-Shot-2021-01-07-at-3.40.48-PM.png
END:VEVENT
BEGIN:VEVENT
DTSTART;TZID=America/New_York:20290515T080000
DTEND;TZID=America/New_York:20290515T083000
DTSTAMP:20260422T185344
CREATED:20240823T163430Z
LAST-MODIFIED:20240830T144628Z
UID:10003426-1873526400-1873528200@diovermont.org
SUMMARY:Morning Prayer with Green Mountain Abbey
DESCRIPTION:The Green Mountain Online Abbey provides a daily offering of online prayer at 8:00 a.m. and 8:00 p.m. Monday through Saturday and 8:00 p.m. Sunday. \nPlease visit the Green Mountain Online Abbey page for more information including call-in instructions and bulletin downloads.
URL:https://diovermont.org/event/morning-prayer-with-green-mountain-abbey/2029-05-15/
LOCATION:Online
CATEGORIES:Green Mountain Online Abbey
ATTACH;FMTTYPE=image/png:https://diovermont.org/wp-content/uploads/2021/01/Screen-Shot-2021-01-07-at-3.40.48-PM.png
END:VEVENT
BEGIN:VEVENT
DTSTART;TZID=America/New_York:20290515T200000
DTEND;TZID=America/New_York:20290515T203000
DTSTAMP:20260422T185344
CREATED:20240823T163602Z
LAST-MODIFIED:20240830T144825Z
UID:10001821-1873569600-1873571400@diovermont.org
SUMMARY:Evening Prayer with Green Mountain Abbey
DESCRIPTION:The Green Mountain Online Abbey provides a daily offering of online prayer at 8:00 a.m. and 8:00 p.m. Monday through Saturday and 8:00 p.m. Sunday. \nPlease visit the Green Mountain Online Abbey page for more information including call-in instructions and bulletin downloads.
URL:https://diovermont.org/event/evening-prayer-with-green-mountain-abbey/2029-05-15/
LOCATION:Online
CATEGORIES:Green Mountain Online Abbey
ATTACH;FMTTYPE=image/png:https://diovermont.org/wp-content/uploads/2021/01/Screen-Shot-2021-01-07-at-3.40.48-PM.png
END:VEVENT
BEGIN:VEVENT
DTSTART;TZID=America/New_York:20290516T080000
DTEND;TZID=America/New_York:20290516T083000
DTSTAMP:20260422T185344
CREATED:20240823T163430Z
LAST-MODIFIED:20240830T144628Z
UID:10003427-1873612800-1873614600@diovermont.org
SUMMARY:Morning Prayer with Green Mountain Abbey
DESCRIPTION:The Green Mountain Online Abbey provides a daily offering of online prayer at 8:00 a.m. and 8:00 p.m. Monday through Saturday and 8:00 p.m. Sunday. \nPlease visit the Green Mountain Online Abbey page for more information including call-in instructions and bulletin downloads.
URL:https://diovermont.org/event/morning-prayer-with-green-mountain-abbey/2029-05-16/
LOCATION:Online
CATEGORIES:Green Mountain Online Abbey
ATTACH;FMTTYPE=image/png:https://diovermont.org/wp-content/uploads/2021/01/Screen-Shot-2021-01-07-at-3.40.48-PM.png
END:VEVENT
BEGIN:VEVENT
DTSTART;TZID=America/New_York:20290516T200000
DTEND;TZID=America/New_York:20290516T203000
DTSTAMP:20260422T185344
CREATED:20240823T163602Z
LAST-MODIFIED:20240830T144825Z
UID:10001822-1873656000-1873657800@diovermont.org
SUMMARY:Evening Prayer with Green Mountain Abbey
DESCRIPTION:The Green Mountain Online Abbey provides a daily offering of online prayer at 8:00 a.m. and 8:00 p.m. Monday through Saturday and 8:00 p.m. Sunday. \nPlease visit the Green Mountain Online Abbey page for more information including call-in instructions and bulletin downloads.
URL:https://diovermont.org/event/evening-prayer-with-green-mountain-abbey/2029-05-16/
LOCATION:Online
CATEGORIES:Green Mountain Online Abbey
ATTACH;FMTTYPE=image/png:https://diovermont.org/wp-content/uploads/2021/01/Screen-Shot-2021-01-07-at-3.40.48-PM.png
END:VEVENT
BEGIN:VEVENT
DTSTART;TZID=America/New_York:20290517T080000
DTEND;TZID=America/New_York:20290517T083000
DTSTAMP:20260422T185344
CREATED:20240823T163430Z
LAST-MODIFIED:20240830T144628Z
UID:10003428-1873699200-1873701000@diovermont.org
SUMMARY:Morning Prayer with Green Mountain Abbey
DESCRIPTION:The Green Mountain Online Abbey provides a daily offering of online prayer at 8:00 a.m. and 8:00 p.m. Monday through Saturday and 8:00 p.m. Sunday. \nPlease visit the Green Mountain Online Abbey page for more information including call-in instructions and bulletin downloads.
URL:https://diovermont.org/event/morning-prayer-with-green-mountain-abbey/2029-05-17/
LOCATION:Online
CATEGORIES:Green Mountain Online Abbey
ATTACH;FMTTYPE=image/png:https://diovermont.org/wp-content/uploads/2021/01/Screen-Shot-2021-01-07-at-3.40.48-PM.png
END:VEVENT
BEGIN:VEVENT
DTSTART;TZID=America/New_York:20290517T200000
DTEND;TZID=America/New_York:20290517T203000
DTSTAMP:20260422T185344
CREATED:20240823T163602Z
LAST-MODIFIED:20240830T144825Z
UID:10001823-1873742400-1873744200@diovermont.org
SUMMARY:Evening Prayer with Green Mountain Abbey
DESCRIPTION:The Green Mountain Online Abbey provides a daily offering of online prayer at 8:00 a.m. and 8:00 p.m. Monday through Saturday and 8:00 p.m. Sunday. \nPlease visit the Green Mountain Online Abbey page for more information including call-in instructions and bulletin downloads.
URL:https://diovermont.org/event/evening-prayer-with-green-mountain-abbey/2029-05-17/
LOCATION:Online
CATEGORIES:Green Mountain Online Abbey
ATTACH;FMTTYPE=image/png:https://diovermont.org/wp-content/uploads/2021/01/Screen-Shot-2021-01-07-at-3.40.48-PM.png
END:VEVENT
BEGIN:VEVENT
DTSTART;TZID=America/New_York:20290518T080000
DTEND;TZID=America/New_York:20290518T083000
DTSTAMP:20260422T185344
CREATED:20240823T163430Z
LAST-MODIFIED:20240830T144628Z
UID:10003429-1873785600-1873787400@diovermont.org
SUMMARY:Morning Prayer with Green Mountain Abbey
DESCRIPTION:The Green Mountain Online Abbey provides a daily offering of online prayer at 8:00 a.m. and 8:00 p.m. Monday through Saturday and 8:00 p.m. Sunday. \nPlease visit the Green Mountain Online Abbey page for more information including call-in instructions and bulletin downloads.
URL:https://diovermont.org/event/morning-prayer-with-green-mountain-abbey/2029-05-18/
LOCATION:Online
CATEGORIES:Green Mountain Online Abbey
ATTACH;FMTTYPE=image/png:https://diovermont.org/wp-content/uploads/2021/01/Screen-Shot-2021-01-07-at-3.40.48-PM.png
END:VEVENT
BEGIN:VEVENT
DTSTART;TZID=America/New_York:20290518T200000
DTEND;TZID=America/New_York:20290518T203000
DTSTAMP:20260422T185344
CREATED:20240823T163602Z
LAST-MODIFIED:20240830T144825Z
UID:10001824-1873828800-1873830600@diovermont.org
SUMMARY:Evening Prayer with Green Mountain Abbey
DESCRIPTION:The Green Mountain Online Abbey provides a daily offering of online prayer at 8:00 a.m. and 8:00 p.m. Monday through Saturday and 8:00 p.m. Sunday. \nPlease visit the Green Mountain Online Abbey page for more information including call-in instructions and bulletin downloads.
URL:https://diovermont.org/event/evening-prayer-with-green-mountain-abbey/2029-05-18/
LOCATION:Online
CATEGORIES:Green Mountain Online Abbey
ATTACH;FMTTYPE=image/png:https://diovermont.org/wp-content/uploads/2021/01/Screen-Shot-2021-01-07-at-3.40.48-PM.png
END:VEVENT
BEGIN:VEVENT
DTSTART;TZID=America/New_York:20290519T080000
DTEND;TZID=America/New_York:20290519T083000
DTSTAMP:20260422T185344
CREATED:20240823T163430Z
LAST-MODIFIED:20240830T144628Z
UID:10003430-1873872000-1873873800@diovermont.org
SUMMARY:Morning Prayer with Green Mountain Abbey
DESCRIPTION:The Green Mountain Online Abbey provides a daily offering of online prayer at 8:00 a.m. and 8:00 p.m. Monday through Saturday and 8:00 p.m. Sunday. \nPlease visit the Green Mountain Online Abbey page for more information including call-in instructions and bulletin downloads.
URL:https://diovermont.org/event/morning-prayer-with-green-mountain-abbey/2029-05-19/
LOCATION:Online
CATEGORIES:Green Mountain Online Abbey
ATTACH;FMTTYPE=image/png:https://diovermont.org/wp-content/uploads/2021/01/Screen-Shot-2021-01-07-at-3.40.48-PM.png
END:VEVENT
BEGIN:VEVENT
DTSTART;TZID=America/New_York:20290519T200000
DTEND;TZID=America/New_York:20290519T203000
DTSTAMP:20260422T185344
CREATED:20240823T163602Z
LAST-MODIFIED:20240830T144825Z
UID:10001825-1873915200-1873917000@diovermont.org
SUMMARY:Evening Prayer with Green Mountain Abbey
DESCRIPTION:The Green Mountain Online Abbey provides a daily offering of online prayer at 8:00 a.m. and 8:00 p.m. Monday through Saturday and 8:00 p.m. Sunday. \nPlease visit the Green Mountain Online Abbey page for more information including call-in instructions and bulletin downloads.
URL:https://diovermont.org/event/evening-prayer-with-green-mountain-abbey/2029-05-19/
LOCATION:Online
CATEGORIES:Green Mountain Online Abbey
ATTACH;FMTTYPE=image/png:https://diovermont.org/wp-content/uploads/2021/01/Screen-Shot-2021-01-07-at-3.40.48-PM.png
END:VEVENT
BEGIN:VEVENT
DTSTART;TZID=America/New_York:20290520T200000
DTEND;TZID=America/New_York:20290520T203000
DTSTAMP:20260422T185344
CREATED:20240823T163602Z
LAST-MODIFIED:20240830T144825Z
UID:10001826-1874001600-1874003400@diovermont.org
SUMMARY:Evening Prayer with Green Mountain Abbey
DESCRIPTION:The Green Mountain Online Abbey provides a daily offering of online prayer at 8:00 a.m. and 8:00 p.m. Monday through Saturday and 8:00 p.m. Sunday. \nPlease visit the Green Mountain Online Abbey page for more information including call-in instructions and bulletin downloads.
URL:https://diovermont.org/event/evening-prayer-with-green-mountain-abbey/2029-05-20/
LOCATION:Online
CATEGORIES:Green Mountain Online Abbey
ATTACH;FMTTYPE=image/png:https://diovermont.org/wp-content/uploads/2021/01/Screen-Shot-2021-01-07-at-3.40.48-PM.png
END:VEVENT
BEGIN:VEVENT
DTSTART;TZID=America/New_York:20290521T080000
DTEND;TZID=America/New_York:20290521T083000
DTSTAMP:20260422T185344
CREATED:20240823T163430Z
LAST-MODIFIED:20240830T144628Z
UID:10003431-1874044800-1874046600@diovermont.org
SUMMARY:Morning Prayer with Green Mountain Abbey
DESCRIPTION:The Green Mountain Online Abbey provides a daily offering of online prayer at 8:00 a.m. and 8:00 p.m. Monday through Saturday and 8:00 p.m. Sunday. \nPlease visit the Green Mountain Online Abbey page for more information including call-in instructions and bulletin downloads.
URL:https://diovermont.org/event/morning-prayer-with-green-mountain-abbey/2029-05-21/
LOCATION:Online
CATEGORIES:Green Mountain Online Abbey
ATTACH;FMTTYPE=image/png:https://diovermont.org/wp-content/uploads/2021/01/Screen-Shot-2021-01-07-at-3.40.48-PM.png
END:VEVENT
BEGIN:VEVENT
DTSTART;TZID=America/New_York:20290521T200000
DTEND;TZID=America/New_York:20290521T203000
DTSTAMP:20260422T185344
CREATED:20240823T163602Z
LAST-MODIFIED:20240830T144825Z
UID:10001827-1874088000-1874089800@diovermont.org
SUMMARY:Evening Prayer with Green Mountain Abbey
DESCRIPTION:The Green Mountain Online Abbey provides a daily offering of online prayer at 8:00 a.m. and 8:00 p.m. Monday through Saturday and 8:00 p.m. Sunday. \nPlease visit the Green Mountain Online Abbey page for more information including call-in instructions and bulletin downloads.
URL:https://diovermont.org/event/evening-prayer-with-green-mountain-abbey/2029-05-21/
LOCATION:Online
CATEGORIES:Green Mountain Online Abbey
ATTACH;FMTTYPE=image/png:https://diovermont.org/wp-content/uploads/2021/01/Screen-Shot-2021-01-07-at-3.40.48-PM.png
END:VEVENT
BEGIN:VEVENT
DTSTART;TZID=America/New_York:20290522T080000
DTEND;TZID=America/New_York:20290522T083000
DTSTAMP:20260422T185344
CREATED:20240823T163430Z
LAST-MODIFIED:20240830T144628Z
UID:10003432-1874131200-1874133000@diovermont.org
SUMMARY:Morning Prayer with Green Mountain Abbey
DESCRIPTION:The Green Mountain Online Abbey provides a daily offering of online prayer at 8:00 a.m. and 8:00 p.m. Monday through Saturday and 8:00 p.m. Sunday. \nPlease visit the Green Mountain Online Abbey page for more information including call-in instructions and bulletin downloads.
URL:https://diovermont.org/event/morning-prayer-with-green-mountain-abbey/2029-05-22/
LOCATION:Online
CATEGORIES:Green Mountain Online Abbey
ATTACH;FMTTYPE=image/png:https://diovermont.org/wp-content/uploads/2021/01/Screen-Shot-2021-01-07-at-3.40.48-PM.png
END:VEVENT
BEGIN:VEVENT
DTSTART;TZID=America/New_York:20290522T200000
DTEND;TZID=America/New_York:20290522T203000
DTSTAMP:20260422T185344
CREATED:20240823T163602Z
LAST-MODIFIED:20240830T144825Z
UID:10001828-1874174400-1874176200@diovermont.org
SUMMARY:Evening Prayer with Green Mountain Abbey
DESCRIPTION:The Green Mountain Online Abbey provides a daily offering of online prayer at 8:00 a.m. and 8:00 p.m. Monday through Saturday and 8:00 p.m. Sunday. \nPlease visit the Green Mountain Online Abbey page for more information including call-in instructions and bulletin downloads.
URL:https://diovermont.org/event/evening-prayer-with-green-mountain-abbey/2029-05-22/
LOCATION:Online
CATEGORIES:Green Mountain Online Abbey
ATTACH;FMTTYPE=image/png:https://diovermont.org/wp-content/uploads/2021/01/Screen-Shot-2021-01-07-at-3.40.48-PM.png
END:VEVENT
BEGIN:VEVENT
DTSTART;TZID=America/New_York:20290523T080000
DTEND;TZID=America/New_York:20290523T083000
DTSTAMP:20260422T185344
CREATED:20240823T163430Z
LAST-MODIFIED:20240830T144628Z
UID:10003433-1874217600-1874219400@diovermont.org
SUMMARY:Morning Prayer with Green Mountain Abbey
DESCRIPTION:The Green Mountain Online Abbey provides a daily offering of online prayer at 8:00 a.m. and 8:00 p.m. Monday through Saturday and 8:00 p.m. Sunday. \nPlease visit the Green Mountain Online Abbey page for more information including call-in instructions and bulletin downloads.
URL:https://diovermont.org/event/morning-prayer-with-green-mountain-abbey/2029-05-23/
LOCATION:Online
CATEGORIES:Green Mountain Online Abbey
ATTACH;FMTTYPE=image/png:https://diovermont.org/wp-content/uploads/2021/01/Screen-Shot-2021-01-07-at-3.40.48-PM.png
END:VEVENT
END:VCALENDAR