BEGIN:VCALENDAR
VERSION:2.0
PRODID:-//Episcopal Diocese of Vermont - ECPv6.15.20//NONSGML v1.0//EN
CALSCALE:GREGORIAN
METHOD:PUBLISH
X-ORIGINAL-URL:https://diovermont.org
X-WR-CALDESC:Events for Episcopal Diocese of Vermont
REFRESH-INTERVAL;VALUE=DURATION:PT1H
X-Robots-Tag:noindex
X-PUBLISHED-TTL:PT1H
BEGIN:VTIMEZONE
TZID:America/New_York
BEGIN:DAYLIGHT
TZOFFSETFROM:-0500
TZOFFSETTO:-0400
TZNAME:EDT
DTSTART:20230312T070000
END:DAYLIGHT
BEGIN:STANDARD
TZOFFSETFROM:-0400
TZOFFSETTO:-0500
TZNAME:EST
DTSTART:20231105T060000
END:STANDARD
BEGIN:DAYLIGHT
TZOFFSETFROM:-0500
TZOFFSETTO:-0400
TZNAME:EDT
DTSTART:20240310T070000
END:DAYLIGHT
BEGIN:STANDARD
TZOFFSETFROM:-0400
TZOFFSETTO:-0500
TZNAME:EST
DTSTART:20241103T060000
END:STANDARD
BEGIN:DAYLIGHT
TZOFFSETFROM:-0500
TZOFFSETTO:-0400
TZNAME:EDT
DTSTART:20250309T070000
END:DAYLIGHT
BEGIN:STANDARD
TZOFFSETFROM:-0400
TZOFFSETTO:-0500
TZNAME:EST
DTSTART:20251102T060000
END:STANDARD
END:VTIMEZONE
BEGIN:VEVENT
DTSTART;TZID=America/New_York:20241120T200000
DTEND;TZID=America/New_York:20241120T203000
DTSTAMP:20260425T080857
CREATED:20240823T163602Z
LAST-MODIFIED:20240830T144825Z
UID:10000184-1732132800-1732134600@diovermont.org
SUMMARY:Evening Prayer with Green Mountain Abbey
DESCRIPTION:The Green Mountain Online Abbey provides a daily offering of online prayer at 8:00 a.m. and 8:00 p.m. Monday through Saturday and 8:00 p.m. Sunday. \nPlease visit the Green Mountain Online Abbey page for more information including call-in instructions and bulletin downloads.
URL:https://diovermont.org/event/evening-prayer-with-green-mountain-abbey/2024-11-20/
LOCATION:Online
CATEGORIES:Green Mountain Online Abbey
ATTACH;FMTTYPE=image/png:https://diovermont.org/wp-content/uploads/2021/01/Screen-Shot-2021-01-07-at-3.40.48-PM.png
END:VEVENT
BEGIN:VEVENT
DTSTART;TZID=America/New_York:20241121T080000
DTEND;TZID=America/New_York:20241121T083000
DTSTAMP:20260425T080857
CREATED:20240823T163430Z
LAST-MODIFIED:20240830T144628Z
UID:10002024-1732176000-1732177800@diovermont.org
SUMMARY:Morning Prayer with Green Mountain Abbey
DESCRIPTION:The Green Mountain Online Abbey provides a daily offering of online prayer at 8:00 a.m. and 8:00 p.m. Monday through Saturday and 8:00 p.m. Sunday. \nPlease visit the Green Mountain Online Abbey page for more information including call-in instructions and bulletin downloads.
URL:https://diovermont.org/event/morning-prayer-with-green-mountain-abbey/2024-11-21/
LOCATION:Online
CATEGORIES:Green Mountain Online Abbey
ATTACH;FMTTYPE=image/png:https://diovermont.org/wp-content/uploads/2021/01/Screen-Shot-2021-01-07-at-3.40.48-PM.png
END:VEVENT
BEGIN:VEVENT
DTSTART;TZID=America/New_York:20241121T200000
DTEND;TZID=America/New_York:20241121T203000
DTSTAMP:20260425T080857
CREATED:20240823T163602Z
LAST-MODIFIED:20240830T144825Z
UID:10000185-1732219200-1732221000@diovermont.org
SUMMARY:Evening Prayer with Green Mountain Abbey
DESCRIPTION:The Green Mountain Online Abbey provides a daily offering of online prayer at 8:00 a.m. and 8:00 p.m. Monday through Saturday and 8:00 p.m. Sunday. \nPlease visit the Green Mountain Online Abbey page for more information including call-in instructions and bulletin downloads.
URL:https://diovermont.org/event/evening-prayer-with-green-mountain-abbey/2024-11-21/
LOCATION:Online
CATEGORIES:Green Mountain Online Abbey
ATTACH;FMTTYPE=image/png:https://diovermont.org/wp-content/uploads/2021/01/Screen-Shot-2021-01-07-at-3.40.48-PM.png
END:VEVENT
BEGIN:VEVENT
DTSTART;TZID=America/New_York:20241122T080000
DTEND;TZID=America/New_York:20241122T083000
DTSTAMP:20260425T080857
CREATED:20240823T163430Z
LAST-MODIFIED:20240830T144628Z
UID:10002025-1732262400-1732264200@diovermont.org
SUMMARY:Morning Prayer with Green Mountain Abbey
DESCRIPTION:The Green Mountain Online Abbey provides a daily offering of online prayer at 8:00 a.m. and 8:00 p.m. Monday through Saturday and 8:00 p.m. Sunday. \nPlease visit the Green Mountain Online Abbey page for more information including call-in instructions and bulletin downloads.
URL:https://diovermont.org/event/morning-prayer-with-green-mountain-abbey/2024-11-22/
LOCATION:Online
CATEGORIES:Green Mountain Online Abbey
ATTACH;FMTTYPE=image/png:https://diovermont.org/wp-content/uploads/2021/01/Screen-Shot-2021-01-07-at-3.40.48-PM.png
END:VEVENT
BEGIN:VEVENT
DTSTART;TZID=America/New_York:20241122T200000
DTEND;TZID=America/New_York:20241122T203000
DTSTAMP:20260425T080857
CREATED:20240823T163602Z
LAST-MODIFIED:20240830T144825Z
UID:10000186-1732305600-1732307400@diovermont.org
SUMMARY:Evening Prayer with Green Mountain Abbey
DESCRIPTION:The Green Mountain Online Abbey provides a daily offering of online prayer at 8:00 a.m. and 8:00 p.m. Monday through Saturday and 8:00 p.m. Sunday. \nPlease visit the Green Mountain Online Abbey page for more information including call-in instructions and bulletin downloads.
URL:https://diovermont.org/event/evening-prayer-with-green-mountain-abbey/2024-11-22/
LOCATION:Online
CATEGORIES:Green Mountain Online Abbey
ATTACH;FMTTYPE=image/png:https://diovermont.org/wp-content/uploads/2021/01/Screen-Shot-2021-01-07-at-3.40.48-PM.png
END:VEVENT
BEGIN:VEVENT
DTSTART;TZID=America/New_York:20241123T080000
DTEND;TZID=America/New_York:20241123T083000
DTSTAMP:20260425T080857
CREATED:20240823T163430Z
LAST-MODIFIED:20240830T144628Z
UID:10002026-1732348800-1732350600@diovermont.org
SUMMARY:Morning Prayer with Green Mountain Abbey
DESCRIPTION:The Green Mountain Online Abbey provides a daily offering of online prayer at 8:00 a.m. and 8:00 p.m. Monday through Saturday and 8:00 p.m. Sunday. \nPlease visit the Green Mountain Online Abbey page for more information including call-in instructions and bulletin downloads.
URL:https://diovermont.org/event/morning-prayer-with-green-mountain-abbey/2024-11-23/
LOCATION:Online
CATEGORIES:Green Mountain Online Abbey
ATTACH;FMTTYPE=image/png:https://diovermont.org/wp-content/uploads/2021/01/Screen-Shot-2021-01-07-at-3.40.48-PM.png
END:VEVENT
BEGIN:VEVENT
DTSTART;TZID=America/New_York:20241123T200000
DTEND;TZID=America/New_York:20241123T203000
DTSTAMP:20260425T080857
CREATED:20240823T163602Z
LAST-MODIFIED:20240830T144825Z
UID:10000187-1732392000-1732393800@diovermont.org
SUMMARY:Evening Prayer with Green Mountain Abbey
DESCRIPTION:The Green Mountain Online Abbey provides a daily offering of online prayer at 8:00 a.m. and 8:00 p.m. Monday through Saturday and 8:00 p.m. Sunday. \nPlease visit the Green Mountain Online Abbey page for more information including call-in instructions and bulletin downloads.
URL:https://diovermont.org/event/evening-prayer-with-green-mountain-abbey/2024-11-23/
LOCATION:Online
CATEGORIES:Green Mountain Online Abbey
ATTACH;FMTTYPE=image/png:https://diovermont.org/wp-content/uploads/2021/01/Screen-Shot-2021-01-07-at-3.40.48-PM.png
END:VEVENT
BEGIN:VEVENT
DTSTART;TZID=America/New_York:20241124T200000
DTEND;TZID=America/New_York:20241124T203000
DTSTAMP:20260425T080857
CREATED:20240823T163602Z
LAST-MODIFIED:20240830T144825Z
UID:10000188-1732478400-1732480200@diovermont.org
SUMMARY:Evening Prayer with Green Mountain Abbey
DESCRIPTION:The Green Mountain Online Abbey provides a daily offering of online prayer at 8:00 a.m. and 8:00 p.m. Monday through Saturday and 8:00 p.m. Sunday. \nPlease visit the Green Mountain Online Abbey page for more information including call-in instructions and bulletin downloads.
URL:https://diovermont.org/event/evening-prayer-with-green-mountain-abbey/2024-11-24/
LOCATION:Online
CATEGORIES:Green Mountain Online Abbey
ATTACH;FMTTYPE=image/png:https://diovermont.org/wp-content/uploads/2021/01/Screen-Shot-2021-01-07-at-3.40.48-PM.png
END:VEVENT
BEGIN:VEVENT
DTSTART;TZID=America/New_York:20241125T080000
DTEND;TZID=America/New_York:20241125T083000
DTSTAMP:20260425T080857
CREATED:20240823T163430Z
LAST-MODIFIED:20240830T144628Z
UID:10002027-1732521600-1732523400@diovermont.org
SUMMARY:Morning Prayer with Green Mountain Abbey
DESCRIPTION:The Green Mountain Online Abbey provides a daily offering of online prayer at 8:00 a.m. and 8:00 p.m. Monday through Saturday and 8:00 p.m. Sunday. \nPlease visit the Green Mountain Online Abbey page for more information including call-in instructions and bulletin downloads.
URL:https://diovermont.org/event/morning-prayer-with-green-mountain-abbey/2024-11-25/
LOCATION:Online
CATEGORIES:Green Mountain Online Abbey
ATTACH;FMTTYPE=image/png:https://diovermont.org/wp-content/uploads/2021/01/Screen-Shot-2021-01-07-at-3.40.48-PM.png
END:VEVENT
BEGIN:VEVENT
DTSTART;TZID=America/New_York:20241125T200000
DTEND;TZID=America/New_York:20241125T203000
DTSTAMP:20260425T080857
CREATED:20240823T163602Z
LAST-MODIFIED:20240830T144825Z
UID:10000189-1732564800-1732566600@diovermont.org
SUMMARY:Evening Prayer with Green Mountain Abbey
DESCRIPTION:The Green Mountain Online Abbey provides a daily offering of online prayer at 8:00 a.m. and 8:00 p.m. Monday through Saturday and 8:00 p.m. Sunday. \nPlease visit the Green Mountain Online Abbey page for more information including call-in instructions and bulletin downloads.
URL:https://diovermont.org/event/evening-prayer-with-green-mountain-abbey/2024-11-25/
LOCATION:Online
CATEGORIES:Green Mountain Online Abbey
ATTACH;FMTTYPE=image/png:https://diovermont.org/wp-content/uploads/2021/01/Screen-Shot-2021-01-07-at-3.40.48-PM.png
END:VEVENT
BEGIN:VEVENT
DTSTART;TZID=America/New_York:20241126T080000
DTEND;TZID=America/New_York:20241126T083000
DTSTAMP:20260425T080857
CREATED:20240823T163430Z
LAST-MODIFIED:20240830T144628Z
UID:10002028-1732608000-1732609800@diovermont.org
SUMMARY:Morning Prayer with Green Mountain Abbey
DESCRIPTION:The Green Mountain Online Abbey provides a daily offering of online prayer at 8:00 a.m. and 8:00 p.m. Monday through Saturday and 8:00 p.m. Sunday. \nPlease visit the Green Mountain Online Abbey page for more information including call-in instructions and bulletin downloads.
URL:https://diovermont.org/event/morning-prayer-with-green-mountain-abbey/2024-11-26/
LOCATION:Online
CATEGORIES:Green Mountain Online Abbey
ATTACH;FMTTYPE=image/png:https://diovermont.org/wp-content/uploads/2021/01/Screen-Shot-2021-01-07-at-3.40.48-PM.png
END:VEVENT
BEGIN:VEVENT
DTSTART;TZID=America/New_York:20241126T200000
DTEND;TZID=America/New_York:20241126T203000
DTSTAMP:20260425T080857
CREATED:20240823T163602Z
LAST-MODIFIED:20240830T144825Z
UID:10000190-1732651200-1732653000@diovermont.org
SUMMARY:Evening Prayer with Green Mountain Abbey
DESCRIPTION:The Green Mountain Online Abbey provides a daily offering of online prayer at 8:00 a.m. and 8:00 p.m. Monday through Saturday and 8:00 p.m. Sunday. \nPlease visit the Green Mountain Online Abbey page for more information including call-in instructions and bulletin downloads.
URL:https://diovermont.org/event/evening-prayer-with-green-mountain-abbey/2024-11-26/
LOCATION:Online
CATEGORIES:Green Mountain Online Abbey
ATTACH;FMTTYPE=image/png:https://diovermont.org/wp-content/uploads/2021/01/Screen-Shot-2021-01-07-at-3.40.48-PM.png
END:VEVENT
BEGIN:VEVENT
DTSTART;TZID=America/New_York:20241127T080000
DTEND;TZID=America/New_York:20241127T083000
DTSTAMP:20260425T080857
CREATED:20240823T163430Z
LAST-MODIFIED:20240830T144628Z
UID:10002029-1732694400-1732696200@diovermont.org
SUMMARY:Morning Prayer with Green Mountain Abbey
DESCRIPTION:The Green Mountain Online Abbey provides a daily offering of online prayer at 8:00 a.m. and 8:00 p.m. Monday through Saturday and 8:00 p.m. Sunday. \nPlease visit the Green Mountain Online Abbey page for more information including call-in instructions and bulletin downloads.
URL:https://diovermont.org/event/morning-prayer-with-green-mountain-abbey/2024-11-27/
LOCATION:Online
CATEGORIES:Green Mountain Online Abbey
ATTACH;FMTTYPE=image/png:https://diovermont.org/wp-content/uploads/2021/01/Screen-Shot-2021-01-07-at-3.40.48-PM.png
END:VEVENT
BEGIN:VEVENT
DTSTART;TZID=America/New_York:20241127T200000
DTEND;TZID=America/New_York:20241127T203000
DTSTAMP:20260425T080857
CREATED:20240823T163602Z
LAST-MODIFIED:20240830T144825Z
UID:10000191-1732737600-1732739400@diovermont.org
SUMMARY:Evening Prayer with Green Mountain Abbey
DESCRIPTION:The Green Mountain Online Abbey provides a daily offering of online prayer at 8:00 a.m. and 8:00 p.m. Monday through Saturday and 8:00 p.m. Sunday. \nPlease visit the Green Mountain Online Abbey page for more information including call-in instructions and bulletin downloads.
URL:https://diovermont.org/event/evening-prayer-with-green-mountain-abbey/2024-11-27/
LOCATION:Online
CATEGORIES:Green Mountain Online Abbey
ATTACH;FMTTYPE=image/png:https://diovermont.org/wp-content/uploads/2021/01/Screen-Shot-2021-01-07-at-3.40.48-PM.png
END:VEVENT
BEGIN:VEVENT
DTSTART;TZID=America/New_York:20241128T080000
DTEND;TZID=America/New_York:20241128T083000
DTSTAMP:20260425T080857
CREATED:20240823T163430Z
LAST-MODIFIED:20240830T144628Z
UID:10002030-1732780800-1732782600@diovermont.org
SUMMARY:Morning Prayer with Green Mountain Abbey
DESCRIPTION:The Green Mountain Online Abbey provides a daily offering of online prayer at 8:00 a.m. and 8:00 p.m. Monday through Saturday and 8:00 p.m. Sunday. \nPlease visit the Green Mountain Online Abbey page for more information including call-in instructions and bulletin downloads.
URL:https://diovermont.org/event/morning-prayer-with-green-mountain-abbey/2024-11-28/
LOCATION:Online
CATEGORIES:Green Mountain Online Abbey
ATTACH;FMTTYPE=image/png:https://diovermont.org/wp-content/uploads/2021/01/Screen-Shot-2021-01-07-at-3.40.48-PM.png
END:VEVENT
BEGIN:VEVENT
DTSTART;TZID=America/New_York:20241128T200000
DTEND;TZID=America/New_York:20241128T203000
DTSTAMP:20260425T080857
CREATED:20240823T163602Z
LAST-MODIFIED:20240830T144825Z
UID:10000192-1732824000-1732825800@diovermont.org
SUMMARY:Evening Prayer with Green Mountain Abbey
DESCRIPTION:The Green Mountain Online Abbey provides a daily offering of online prayer at 8:00 a.m. and 8:00 p.m. Monday through Saturday and 8:00 p.m. Sunday. \nPlease visit the Green Mountain Online Abbey page for more information including call-in instructions and bulletin downloads.
URL:https://diovermont.org/event/evening-prayer-with-green-mountain-abbey/2024-11-28/
LOCATION:Online
CATEGORIES:Green Mountain Online Abbey
ATTACH;FMTTYPE=image/png:https://diovermont.org/wp-content/uploads/2021/01/Screen-Shot-2021-01-07-at-3.40.48-PM.png
END:VEVENT
BEGIN:VEVENT
DTSTART;TZID=America/New_York:20241129T080000
DTEND;TZID=America/New_York:20241129T083000
DTSTAMP:20260425T080857
CREATED:20240823T163430Z
LAST-MODIFIED:20240830T144628Z
UID:10002031-1732867200-1732869000@diovermont.org
SUMMARY:Morning Prayer with Green Mountain Abbey
DESCRIPTION:The Green Mountain Online Abbey provides a daily offering of online prayer at 8:00 a.m. and 8:00 p.m. Monday through Saturday and 8:00 p.m. Sunday. \nPlease visit the Green Mountain Online Abbey page for more information including call-in instructions and bulletin downloads.
URL:https://diovermont.org/event/morning-prayer-with-green-mountain-abbey/2024-11-29/
LOCATION:Online
CATEGORIES:Green Mountain Online Abbey
ATTACH;FMTTYPE=image/png:https://diovermont.org/wp-content/uploads/2021/01/Screen-Shot-2021-01-07-at-3.40.48-PM.png
END:VEVENT
BEGIN:VEVENT
DTSTART;TZID=America/New_York:20241129T200000
DTEND;TZID=America/New_York:20241129T203000
DTSTAMP:20260425T080857
CREATED:20240823T163602Z
LAST-MODIFIED:20240830T144825Z
UID:10000193-1732910400-1732912200@diovermont.org
SUMMARY:Evening Prayer with Green Mountain Abbey
DESCRIPTION:The Green Mountain Online Abbey provides a daily offering of online prayer at 8:00 a.m. and 8:00 p.m. Monday through Saturday and 8:00 p.m. Sunday. \nPlease visit the Green Mountain Online Abbey page for more information including call-in instructions and bulletin downloads.
URL:https://diovermont.org/event/evening-prayer-with-green-mountain-abbey/2024-11-29/
LOCATION:Online
CATEGORIES:Green Mountain Online Abbey
ATTACH;FMTTYPE=image/png:https://diovermont.org/wp-content/uploads/2021/01/Screen-Shot-2021-01-07-at-3.40.48-PM.png
END:VEVENT
BEGIN:VEVENT
DTSTART;TZID=America/New_York:20241130T080000
DTEND;TZID=America/New_York:20241130T083000
DTSTAMP:20260425T080857
CREATED:20240823T163430Z
LAST-MODIFIED:20240830T144628Z
UID:10002032-1732953600-1732955400@diovermont.org
SUMMARY:Morning Prayer with Green Mountain Abbey
DESCRIPTION:The Green Mountain Online Abbey provides a daily offering of online prayer at 8:00 a.m. and 8:00 p.m. Monday through Saturday and 8:00 p.m. Sunday. \nPlease visit the Green Mountain Online Abbey page for more information including call-in instructions and bulletin downloads.
URL:https://diovermont.org/event/morning-prayer-with-green-mountain-abbey/2024-11-30/
LOCATION:Online
CATEGORIES:Green Mountain Online Abbey
ATTACH;FMTTYPE=image/png:https://diovermont.org/wp-content/uploads/2021/01/Screen-Shot-2021-01-07-at-3.40.48-PM.png
END:VEVENT
BEGIN:VEVENT
DTSTART;TZID=America/New_York:20241130T200000
DTEND;TZID=America/New_York:20241130T203000
DTSTAMP:20260425T080857
CREATED:20240823T163602Z
LAST-MODIFIED:20240830T144825Z
UID:10000194-1732996800-1732998600@diovermont.org
SUMMARY:Evening Prayer with Green Mountain Abbey
DESCRIPTION:The Green Mountain Online Abbey provides a daily offering of online prayer at 8:00 a.m. and 8:00 p.m. Monday through Saturday and 8:00 p.m. Sunday. \nPlease visit the Green Mountain Online Abbey page for more information including call-in instructions and bulletin downloads.
URL:https://diovermont.org/event/evening-prayer-with-green-mountain-abbey/2024-11-30/
LOCATION:Online
CATEGORIES:Green Mountain Online Abbey
ATTACH;FMTTYPE=image/png:https://diovermont.org/wp-content/uploads/2021/01/Screen-Shot-2021-01-07-at-3.40.48-PM.png
END:VEVENT
BEGIN:VEVENT
DTSTART;TZID=America/New_York:20241201T200000
DTEND;TZID=America/New_York:20241201T203000
DTSTAMP:20260425T080857
CREATED:20240823T163602Z
LAST-MODIFIED:20240830T144825Z
UID:10000195-1733083200-1733085000@diovermont.org
SUMMARY:Evening Prayer with Green Mountain Abbey
DESCRIPTION:The Green Mountain Online Abbey provides a daily offering of online prayer at 8:00 a.m. and 8:00 p.m. Monday through Saturday and 8:00 p.m. Sunday. \nPlease visit the Green Mountain Online Abbey page for more information including call-in instructions and bulletin downloads.
URL:https://diovermont.org/event/evening-prayer-with-green-mountain-abbey/2024-12-01/
LOCATION:Online
CATEGORIES:Green Mountain Online Abbey
ATTACH;FMTTYPE=image/png:https://diovermont.org/wp-content/uploads/2021/01/Screen-Shot-2021-01-07-at-3.40.48-PM.png
END:VEVENT
BEGIN:VEVENT
DTSTART;TZID=America/New_York:20241202T080000
DTEND;TZID=America/New_York:20241202T083000
DTSTAMP:20260425T080857
CREATED:20240823T163430Z
LAST-MODIFIED:20240830T144628Z
UID:10002033-1733126400-1733128200@diovermont.org
SUMMARY:Morning Prayer with Green Mountain Abbey
DESCRIPTION:The Green Mountain Online Abbey provides a daily offering of online prayer at 8:00 a.m. and 8:00 p.m. Monday through Saturday and 8:00 p.m. Sunday. \nPlease visit the Green Mountain Online Abbey page for more information including call-in instructions and bulletin downloads.
URL:https://diovermont.org/event/morning-prayer-with-green-mountain-abbey/2024-12-02/
LOCATION:Online
CATEGORIES:Green Mountain Online Abbey
ATTACH;FMTTYPE=image/png:https://diovermont.org/wp-content/uploads/2021/01/Screen-Shot-2021-01-07-at-3.40.48-PM.png
END:VEVENT
BEGIN:VEVENT
DTSTART;TZID=America/New_York:20241202T200000
DTEND;TZID=America/New_York:20241202T203000
DTSTAMP:20260425T080857
CREATED:20240823T163602Z
LAST-MODIFIED:20240830T144825Z
UID:10000196-1733169600-1733171400@diovermont.org
SUMMARY:Evening Prayer with Green Mountain Abbey
DESCRIPTION:The Green Mountain Online Abbey provides a daily offering of online prayer at 8:00 a.m. and 8:00 p.m. Monday through Saturday and 8:00 p.m. Sunday. \nPlease visit the Green Mountain Online Abbey page for more information including call-in instructions and bulletin downloads.
URL:https://diovermont.org/event/evening-prayer-with-green-mountain-abbey/2024-12-02/
LOCATION:Online
CATEGORIES:Green Mountain Online Abbey
ATTACH;FMTTYPE=image/png:https://diovermont.org/wp-content/uploads/2021/01/Screen-Shot-2021-01-07-at-3.40.48-PM.png
END:VEVENT
BEGIN:VEVENT
DTSTART;TZID=America/New_York:20241203T080000
DTEND;TZID=America/New_York:20241203T083000
DTSTAMP:20260425T080857
CREATED:20240823T163430Z
LAST-MODIFIED:20240830T144628Z
UID:10002034-1733212800-1733214600@diovermont.org
SUMMARY:Morning Prayer with Green Mountain Abbey
DESCRIPTION:The Green Mountain Online Abbey provides a daily offering of online prayer at 8:00 a.m. and 8:00 p.m. Monday through Saturday and 8:00 p.m. Sunday. \nPlease visit the Green Mountain Online Abbey page for more information including call-in instructions and bulletin downloads.
URL:https://diovermont.org/event/morning-prayer-with-green-mountain-abbey/2024-12-03/
LOCATION:Online
CATEGORIES:Green Mountain Online Abbey
ATTACH;FMTTYPE=image/png:https://diovermont.org/wp-content/uploads/2021/01/Screen-Shot-2021-01-07-at-3.40.48-PM.png
END:VEVENT
BEGIN:VEVENT
DTSTART;TZID=America/New_York:20241203T200000
DTEND;TZID=America/New_York:20241203T203000
DTSTAMP:20260425T080857
CREATED:20240823T163602Z
LAST-MODIFIED:20240830T144825Z
UID:10000197-1733256000-1733257800@diovermont.org
SUMMARY:Evening Prayer with Green Mountain Abbey
DESCRIPTION:The Green Mountain Online Abbey provides a daily offering of online prayer at 8:00 a.m. and 8:00 p.m. Monday through Saturday and 8:00 p.m. Sunday. \nPlease visit the Green Mountain Online Abbey page for more information including call-in instructions and bulletin downloads.
URL:https://diovermont.org/event/evening-prayer-with-green-mountain-abbey/2024-12-03/
LOCATION:Online
CATEGORIES:Green Mountain Online Abbey
ATTACH;FMTTYPE=image/png:https://diovermont.org/wp-content/uploads/2021/01/Screen-Shot-2021-01-07-at-3.40.48-PM.png
END:VEVENT
BEGIN:VEVENT
DTSTART;TZID=America/New_York:20241204T080000
DTEND;TZID=America/New_York:20241204T083000
DTSTAMP:20260425T080857
CREATED:20240823T163430Z
LAST-MODIFIED:20240830T144628Z
UID:10002035-1733299200-1733301000@diovermont.org
SUMMARY:Morning Prayer with Green Mountain Abbey
DESCRIPTION:The Green Mountain Online Abbey provides a daily offering of online prayer at 8:00 a.m. and 8:00 p.m. Monday through Saturday and 8:00 p.m. Sunday. \nPlease visit the Green Mountain Online Abbey page for more information including call-in instructions and bulletin downloads.
URL:https://diovermont.org/event/morning-prayer-with-green-mountain-abbey/2024-12-04/
LOCATION:Online
CATEGORIES:Green Mountain Online Abbey
ATTACH;FMTTYPE=image/png:https://diovermont.org/wp-content/uploads/2021/01/Screen-Shot-2021-01-07-at-3.40.48-PM.png
END:VEVENT
BEGIN:VEVENT
DTSTART;TZID=America/New_York:20241204T200000
DTEND;TZID=America/New_York:20241204T203000
DTSTAMP:20260425T080857
CREATED:20240823T163602Z
LAST-MODIFIED:20240830T144825Z
UID:10000198-1733342400-1733344200@diovermont.org
SUMMARY:Evening Prayer with Green Mountain Abbey
DESCRIPTION:The Green Mountain Online Abbey provides a daily offering of online prayer at 8:00 a.m. and 8:00 p.m. Monday through Saturday and 8:00 p.m. Sunday. \nPlease visit the Green Mountain Online Abbey page for more information including call-in instructions and bulletin downloads.
URL:https://diovermont.org/event/evening-prayer-with-green-mountain-abbey/2024-12-04/
LOCATION:Online
CATEGORIES:Green Mountain Online Abbey
ATTACH;FMTTYPE=image/png:https://diovermont.org/wp-content/uploads/2021/01/Screen-Shot-2021-01-07-at-3.40.48-PM.png
END:VEVENT
BEGIN:VEVENT
DTSTART;TZID=America/New_York:20241205T080000
DTEND;TZID=America/New_York:20241205T083000
DTSTAMP:20260425T080857
CREATED:20240823T163430Z
LAST-MODIFIED:20240830T144628Z
UID:10002036-1733385600-1733387400@diovermont.org
SUMMARY:Morning Prayer with Green Mountain Abbey
DESCRIPTION:The Green Mountain Online Abbey provides a daily offering of online prayer at 8:00 a.m. and 8:00 p.m. Monday through Saturday and 8:00 p.m. Sunday. \nPlease visit the Green Mountain Online Abbey page for more information including call-in instructions and bulletin downloads.
URL:https://diovermont.org/event/morning-prayer-with-green-mountain-abbey/2024-12-05/
LOCATION:Online
CATEGORIES:Green Mountain Online Abbey
ATTACH;FMTTYPE=image/png:https://diovermont.org/wp-content/uploads/2021/01/Screen-Shot-2021-01-07-at-3.40.48-PM.png
END:VEVENT
BEGIN:VEVENT
DTSTART;TZID=America/New_York:20241205T200000
DTEND;TZID=America/New_York:20241205T203000
DTSTAMP:20260425T080857
CREATED:20240823T163602Z
LAST-MODIFIED:20240830T144825Z
UID:10000199-1733428800-1733430600@diovermont.org
SUMMARY:Evening Prayer with Green Mountain Abbey
DESCRIPTION:The Green Mountain Online Abbey provides a daily offering of online prayer at 8:00 a.m. and 8:00 p.m. Monday through Saturday and 8:00 p.m. Sunday. \nPlease visit the Green Mountain Online Abbey page for more information including call-in instructions and bulletin downloads.
URL:https://diovermont.org/event/evening-prayer-with-green-mountain-abbey/2024-12-05/
LOCATION:Online
CATEGORIES:Green Mountain Online Abbey
ATTACH;FMTTYPE=image/png:https://diovermont.org/wp-content/uploads/2021/01/Screen-Shot-2021-01-07-at-3.40.48-PM.png
END:VEVENT
BEGIN:VEVENT
DTSTART;TZID=America/New_York:20241206T080000
DTEND;TZID=America/New_York:20241206T083000
DTSTAMP:20260425T080857
CREATED:20240823T163430Z
LAST-MODIFIED:20240830T144628Z
UID:10002037-1733472000-1733473800@diovermont.org
SUMMARY:Morning Prayer with Green Mountain Abbey
DESCRIPTION:The Green Mountain Online Abbey provides a daily offering of online prayer at 8:00 a.m. and 8:00 p.m. Monday through Saturday and 8:00 p.m. Sunday. \nPlease visit the Green Mountain Online Abbey page for more information including call-in instructions and bulletin downloads.
URL:https://diovermont.org/event/morning-prayer-with-green-mountain-abbey/2024-12-06/
LOCATION:Online
CATEGORIES:Green Mountain Online Abbey
ATTACH;FMTTYPE=image/png:https://diovermont.org/wp-content/uploads/2021/01/Screen-Shot-2021-01-07-at-3.40.48-PM.png
END:VEVENT
END:VCALENDAR