BEGIN:VCALENDAR
VERSION:2.0
PRODID:-//Episcopal Diocese of Vermont - ECPv6.15.20//NONSGML v1.0//EN
CALSCALE:GREGORIAN
METHOD:PUBLISH
X-WR-CALNAME:Episcopal Diocese of Vermont
X-ORIGINAL-URL:https://diovermont.org
X-WR-CALDESC:Events for Episcopal Diocese of Vermont
REFRESH-INTERVAL;VALUE=DURATION:PT1H
X-Robots-Tag:noindex
X-PUBLISHED-TTL:PT1H
BEGIN:VTIMEZONE
TZID:America/New_York
BEGIN:DAYLIGHT
TZOFFSETFROM:-0500
TZOFFSETTO:-0400
TZNAME:EDT
DTSTART:20230312T070000
END:DAYLIGHT
BEGIN:STANDARD
TZOFFSETFROM:-0400
TZOFFSETTO:-0500
TZNAME:EST
DTSTART:20231105T060000
END:STANDARD
BEGIN:DAYLIGHT
TZOFFSETFROM:-0500
TZOFFSETTO:-0400
TZNAME:EDT
DTSTART:20240310T070000
END:DAYLIGHT
BEGIN:STANDARD
TZOFFSETFROM:-0400
TZOFFSETTO:-0500
TZNAME:EST
DTSTART:20241103T060000
END:STANDARD
BEGIN:DAYLIGHT
TZOFFSETFROM:-0500
TZOFFSETTO:-0400
TZNAME:EDT
DTSTART:20250309T070000
END:DAYLIGHT
BEGIN:STANDARD
TZOFFSETFROM:-0400
TZOFFSETTO:-0500
TZNAME:EST
DTSTART:20251102T060000
END:STANDARD
BEGIN:DAYLIGHT
TZOFFSETFROM:-0500
TZOFFSETTO:-0400
TZNAME:EDT
DTSTART:20260308T070000
END:DAYLIGHT
BEGIN:STANDARD
TZOFFSETFROM:-0400
TZOFFSETTO:-0500
TZNAME:EST
DTSTART:20261101T060000
END:STANDARD
END:VTIMEZONE
BEGIN:VEVENT
DTSTART;TZID=America/New_York:20241219T200000
DTEND;TZID=America/New_York:20241219T203000
DTSTAMP:20260425T122845
CREATED:20240823T163602Z
LAST-MODIFIED:20240830T144825Z
UID:10000213-1734638400-1734640200@diovermont.org
SUMMARY:Evening Prayer with Green Mountain Abbey
DESCRIPTION:The Green Mountain Online Abbey provides a daily offering of online prayer at 8:00 a.m. and 8:00 p.m. Monday through Saturday and 8:00 p.m. Sunday. \nPlease visit the Green Mountain Online Abbey page for more information including call-in instructions and bulletin downloads.
URL:https://diovermont.org/event/evening-prayer-with-green-mountain-abbey/2024-12-19/
LOCATION:Online
CATEGORIES:Green Mountain Online Abbey
ATTACH;FMTTYPE=image/png:https://diovermont.org/wp-content/uploads/2021/01/Screen-Shot-2021-01-07-at-3.40.48-PM.png
END:VEVENT
BEGIN:VEVENT
DTSTART;TZID=America/New_York:20241220T080000
DTEND;TZID=America/New_York:20241220T083000
DTSTAMP:20260425T122845
CREATED:20240823T163430Z
LAST-MODIFIED:20240830T144628Z
UID:10002049-1734681600-1734683400@diovermont.org
SUMMARY:Morning Prayer with Green Mountain Abbey
DESCRIPTION:The Green Mountain Online Abbey provides a daily offering of online prayer at 8:00 a.m. and 8:00 p.m. Monday through Saturday and 8:00 p.m. Sunday. \nPlease visit the Green Mountain Online Abbey page for more information including call-in instructions and bulletin downloads.
URL:https://diovermont.org/event/morning-prayer-with-green-mountain-abbey/2024-12-20/
LOCATION:Online
CATEGORIES:Green Mountain Online Abbey
ATTACH;FMTTYPE=image/png:https://diovermont.org/wp-content/uploads/2021/01/Screen-Shot-2021-01-07-at-3.40.48-PM.png
END:VEVENT
BEGIN:VEVENT
DTSTART;TZID=America/New_York:20241220T200000
DTEND;TZID=America/New_York:20241220T203000
DTSTAMP:20260425T122845
CREATED:20240823T163602Z
LAST-MODIFIED:20240830T144825Z
UID:10000214-1734724800-1734726600@diovermont.org
SUMMARY:Evening Prayer with Green Mountain Abbey
DESCRIPTION:The Green Mountain Online Abbey provides a daily offering of online prayer at 8:00 a.m. and 8:00 p.m. Monday through Saturday and 8:00 p.m. Sunday. \nPlease visit the Green Mountain Online Abbey page for more information including call-in instructions and bulletin downloads.
URL:https://diovermont.org/event/evening-prayer-with-green-mountain-abbey/2024-12-20/
LOCATION:Online
CATEGORIES:Green Mountain Online Abbey
ATTACH;FMTTYPE=image/png:https://diovermont.org/wp-content/uploads/2021/01/Screen-Shot-2021-01-07-at-3.40.48-PM.png
END:VEVENT
BEGIN:VEVENT
DTSTART;TZID=America/New_York:20241221T080000
DTEND;TZID=America/New_York:20241221T083000
DTSTAMP:20260425T122845
CREATED:20240823T163430Z
LAST-MODIFIED:20240830T144628Z
UID:10002050-1734768000-1734769800@diovermont.org
SUMMARY:Morning Prayer with Green Mountain Abbey
DESCRIPTION:The Green Mountain Online Abbey provides a daily offering of online prayer at 8:00 a.m. and 8:00 p.m. Monday through Saturday and 8:00 p.m. Sunday. \nPlease visit the Green Mountain Online Abbey page for more information including call-in instructions and bulletin downloads.
URL:https://diovermont.org/event/morning-prayer-with-green-mountain-abbey/2024-12-21/
LOCATION:Online
CATEGORIES:Green Mountain Online Abbey
ATTACH;FMTTYPE=image/png:https://diovermont.org/wp-content/uploads/2021/01/Screen-Shot-2021-01-07-at-3.40.48-PM.png
END:VEVENT
BEGIN:VEVENT
DTSTART;TZID=America/New_York:20241221T200000
DTEND;TZID=America/New_York:20241221T203000
DTSTAMP:20260425T122845
CREATED:20240823T163602Z
LAST-MODIFIED:20240830T144825Z
UID:10000215-1734811200-1734813000@diovermont.org
SUMMARY:Evening Prayer with Green Mountain Abbey
DESCRIPTION:The Green Mountain Online Abbey provides a daily offering of online prayer at 8:00 a.m. and 8:00 p.m. Monday through Saturday and 8:00 p.m. Sunday. \nPlease visit the Green Mountain Online Abbey page for more information including call-in instructions and bulletin downloads.
URL:https://diovermont.org/event/evening-prayer-with-green-mountain-abbey/2024-12-21/
LOCATION:Online
CATEGORIES:Green Mountain Online Abbey
ATTACH;FMTTYPE=image/png:https://diovermont.org/wp-content/uploads/2021/01/Screen-Shot-2021-01-07-at-3.40.48-PM.png
END:VEVENT
BEGIN:VEVENT
DTSTART;TZID=America/New_York:20241222T200000
DTEND;TZID=America/New_York:20241222T203000
DTSTAMP:20260425T122845
CREATED:20240823T163602Z
LAST-MODIFIED:20240830T144825Z
UID:10000216-1734897600-1734899400@diovermont.org
SUMMARY:Evening Prayer with Green Mountain Abbey
DESCRIPTION:The Green Mountain Online Abbey provides a daily offering of online prayer at 8:00 a.m. and 8:00 p.m. Monday through Saturday and 8:00 p.m. Sunday. \nPlease visit the Green Mountain Online Abbey page for more information including call-in instructions and bulletin downloads.
URL:https://diovermont.org/event/evening-prayer-with-green-mountain-abbey/2024-12-22/
LOCATION:Online
CATEGORIES:Green Mountain Online Abbey
ATTACH;FMTTYPE=image/png:https://diovermont.org/wp-content/uploads/2021/01/Screen-Shot-2021-01-07-at-3.40.48-PM.png
END:VEVENT
BEGIN:VEVENT
DTSTART;TZID=America/New_York:20241223T080000
DTEND;TZID=America/New_York:20241223T083000
DTSTAMP:20260425T122845
CREATED:20240823T163430Z
LAST-MODIFIED:20240830T144628Z
UID:10002051-1734940800-1734942600@diovermont.org
SUMMARY:Morning Prayer with Green Mountain Abbey
DESCRIPTION:The Green Mountain Online Abbey provides a daily offering of online prayer at 8:00 a.m. and 8:00 p.m. Monday through Saturday and 8:00 p.m. Sunday. \nPlease visit the Green Mountain Online Abbey page for more information including call-in instructions and bulletin downloads.
URL:https://diovermont.org/event/morning-prayer-with-green-mountain-abbey/2024-12-23/
LOCATION:Online
CATEGORIES:Green Mountain Online Abbey
ATTACH;FMTTYPE=image/png:https://diovermont.org/wp-content/uploads/2021/01/Screen-Shot-2021-01-07-at-3.40.48-PM.png
END:VEVENT
BEGIN:VEVENT
DTSTART;TZID=America/New_York:20241223T200000
DTEND;TZID=America/New_York:20241223T203000
DTSTAMP:20260425T122845
CREATED:20240823T163602Z
LAST-MODIFIED:20240830T144825Z
UID:10000217-1734984000-1734985800@diovermont.org
SUMMARY:Evening Prayer with Green Mountain Abbey
DESCRIPTION:The Green Mountain Online Abbey provides a daily offering of online prayer at 8:00 a.m. and 8:00 p.m. Monday through Saturday and 8:00 p.m. Sunday. \nPlease visit the Green Mountain Online Abbey page for more information including call-in instructions and bulletin downloads.
URL:https://diovermont.org/event/evening-prayer-with-green-mountain-abbey/2024-12-23/
LOCATION:Online
CATEGORIES:Green Mountain Online Abbey
ATTACH;FMTTYPE=image/png:https://diovermont.org/wp-content/uploads/2021/01/Screen-Shot-2021-01-07-at-3.40.48-PM.png
END:VEVENT
BEGIN:VEVENT
DTSTART;TZID=America/New_York:20241224T080000
DTEND;TZID=America/New_York:20241224T083000
DTSTAMP:20260425T122845
CREATED:20240823T163430Z
LAST-MODIFIED:20240830T144628Z
UID:10002052-1735027200-1735029000@diovermont.org
SUMMARY:Morning Prayer with Green Mountain Abbey
DESCRIPTION:The Green Mountain Online Abbey provides a daily offering of online prayer at 8:00 a.m. and 8:00 p.m. Monday through Saturday and 8:00 p.m. Sunday. \nPlease visit the Green Mountain Online Abbey page for more information including call-in instructions and bulletin downloads.
URL:https://diovermont.org/event/morning-prayer-with-green-mountain-abbey/2024-12-24/
LOCATION:Online
CATEGORIES:Green Mountain Online Abbey
ATTACH;FMTTYPE=image/png:https://diovermont.org/wp-content/uploads/2021/01/Screen-Shot-2021-01-07-at-3.40.48-PM.png
END:VEVENT
BEGIN:VEVENT
DTSTART;TZID=America/New_York:20241224T200000
DTEND;TZID=America/New_York:20241224T203000
DTSTAMP:20260425T122845
CREATED:20240823T163602Z
LAST-MODIFIED:20240830T144825Z
UID:10000218-1735070400-1735072200@diovermont.org
SUMMARY:Evening Prayer with Green Mountain Abbey
DESCRIPTION:The Green Mountain Online Abbey provides a daily offering of online prayer at 8:00 a.m. and 8:00 p.m. Monday through Saturday and 8:00 p.m. Sunday. \nPlease visit the Green Mountain Online Abbey page for more information including call-in instructions and bulletin downloads.
URL:https://diovermont.org/event/evening-prayer-with-green-mountain-abbey/2024-12-24/
LOCATION:Online
CATEGORIES:Green Mountain Online Abbey
ATTACH;FMTTYPE=image/png:https://diovermont.org/wp-content/uploads/2021/01/Screen-Shot-2021-01-07-at-3.40.48-PM.png
END:VEVENT
BEGIN:VEVENT
DTSTART;TZID=America/New_York:20241225T080000
DTEND;TZID=America/New_York:20241225T083000
DTSTAMP:20260425T122845
CREATED:20240823T163430Z
LAST-MODIFIED:20240830T144628Z
UID:10002053-1735113600-1735115400@diovermont.org
SUMMARY:Morning Prayer with Green Mountain Abbey
DESCRIPTION:The Green Mountain Online Abbey provides a daily offering of online prayer at 8:00 a.m. and 8:00 p.m. Monday through Saturday and 8:00 p.m. Sunday. \nPlease visit the Green Mountain Online Abbey page for more information including call-in instructions and bulletin downloads.
URL:https://diovermont.org/event/morning-prayer-with-green-mountain-abbey/2024-12-25/
LOCATION:Online
CATEGORIES:Green Mountain Online Abbey
ATTACH;FMTTYPE=image/png:https://diovermont.org/wp-content/uploads/2021/01/Screen-Shot-2021-01-07-at-3.40.48-PM.png
END:VEVENT
BEGIN:VEVENT
DTSTART;TZID=America/New_York:20241225T200000
DTEND;TZID=America/New_York:20241225T203000
DTSTAMP:20260425T122845
CREATED:20240823T163602Z
LAST-MODIFIED:20240830T144825Z
UID:10000219-1735156800-1735158600@diovermont.org
SUMMARY:Evening Prayer with Green Mountain Abbey
DESCRIPTION:The Green Mountain Online Abbey provides a daily offering of online prayer at 8:00 a.m. and 8:00 p.m. Monday through Saturday and 8:00 p.m. Sunday. \nPlease visit the Green Mountain Online Abbey page for more information including call-in instructions and bulletin downloads.
URL:https://diovermont.org/event/evening-prayer-with-green-mountain-abbey/2024-12-25/
LOCATION:Online
CATEGORIES:Green Mountain Online Abbey
ATTACH;FMTTYPE=image/png:https://diovermont.org/wp-content/uploads/2021/01/Screen-Shot-2021-01-07-at-3.40.48-PM.png
END:VEVENT
BEGIN:VEVENT
DTSTART;TZID=America/New_York:20241226T080000
DTEND;TZID=America/New_York:20241226T083000
DTSTAMP:20260425T122845
CREATED:20240823T163430Z
LAST-MODIFIED:20240830T144628Z
UID:10002054-1735200000-1735201800@diovermont.org
SUMMARY:Morning Prayer with Green Mountain Abbey
DESCRIPTION:The Green Mountain Online Abbey provides a daily offering of online prayer at 8:00 a.m. and 8:00 p.m. Monday through Saturday and 8:00 p.m. Sunday. \nPlease visit the Green Mountain Online Abbey page for more information including call-in instructions and bulletin downloads.
URL:https://diovermont.org/event/morning-prayer-with-green-mountain-abbey/2024-12-26/
LOCATION:Online
CATEGORIES:Green Mountain Online Abbey
ATTACH;FMTTYPE=image/png:https://diovermont.org/wp-content/uploads/2021/01/Screen-Shot-2021-01-07-at-3.40.48-PM.png
END:VEVENT
BEGIN:VEVENT
DTSTART;TZID=America/New_York:20241226T200000
DTEND;TZID=America/New_York:20241226T203000
DTSTAMP:20260425T122845
CREATED:20240823T163602Z
LAST-MODIFIED:20240830T144825Z
UID:10000220-1735243200-1735245000@diovermont.org
SUMMARY:Evening Prayer with Green Mountain Abbey
DESCRIPTION:The Green Mountain Online Abbey provides a daily offering of online prayer at 8:00 a.m. and 8:00 p.m. Monday through Saturday and 8:00 p.m. Sunday. \nPlease visit the Green Mountain Online Abbey page for more information including call-in instructions and bulletin downloads.
URL:https://diovermont.org/event/evening-prayer-with-green-mountain-abbey/2024-12-26/
LOCATION:Online
CATEGORIES:Green Mountain Online Abbey
ATTACH;FMTTYPE=image/png:https://diovermont.org/wp-content/uploads/2021/01/Screen-Shot-2021-01-07-at-3.40.48-PM.png
END:VEVENT
BEGIN:VEVENT
DTSTART;TZID=America/New_York:20241227T080000
DTEND;TZID=America/New_York:20241227T083000
DTSTAMP:20260425T122845
CREATED:20240823T163430Z
LAST-MODIFIED:20240830T144628Z
UID:10002055-1735286400-1735288200@diovermont.org
SUMMARY:Morning Prayer with Green Mountain Abbey
DESCRIPTION:The Green Mountain Online Abbey provides a daily offering of online prayer at 8:00 a.m. and 8:00 p.m. Monday through Saturday and 8:00 p.m. Sunday. \nPlease visit the Green Mountain Online Abbey page for more information including call-in instructions and bulletin downloads.
URL:https://diovermont.org/event/morning-prayer-with-green-mountain-abbey/2024-12-27/
LOCATION:Online
CATEGORIES:Green Mountain Online Abbey
ATTACH;FMTTYPE=image/png:https://diovermont.org/wp-content/uploads/2021/01/Screen-Shot-2021-01-07-at-3.40.48-PM.png
END:VEVENT
BEGIN:VEVENT
DTSTART;TZID=America/New_York:20241227T200000
DTEND;TZID=America/New_York:20241227T203000
DTSTAMP:20260425T122845
CREATED:20240823T163602Z
LAST-MODIFIED:20240830T144825Z
UID:10000221-1735329600-1735331400@diovermont.org
SUMMARY:Evening Prayer with Green Mountain Abbey
DESCRIPTION:The Green Mountain Online Abbey provides a daily offering of online prayer at 8:00 a.m. and 8:00 p.m. Monday through Saturday and 8:00 p.m. Sunday. \nPlease visit the Green Mountain Online Abbey page for more information including call-in instructions and bulletin downloads.
URL:https://diovermont.org/event/evening-prayer-with-green-mountain-abbey/2024-12-27/
LOCATION:Online
CATEGORIES:Green Mountain Online Abbey
ATTACH;FMTTYPE=image/png:https://diovermont.org/wp-content/uploads/2021/01/Screen-Shot-2021-01-07-at-3.40.48-PM.png
END:VEVENT
BEGIN:VEVENT
DTSTART;TZID=America/New_York:20241228T080000
DTEND;TZID=America/New_York:20241228T083000
DTSTAMP:20260425T122845
CREATED:20240823T163430Z
LAST-MODIFIED:20240830T144628Z
UID:10002056-1735372800-1735374600@diovermont.org
SUMMARY:Morning Prayer with Green Mountain Abbey
DESCRIPTION:The Green Mountain Online Abbey provides a daily offering of online prayer at 8:00 a.m. and 8:00 p.m. Monday through Saturday and 8:00 p.m. Sunday. \nPlease visit the Green Mountain Online Abbey page for more information including call-in instructions and bulletin downloads.
URL:https://diovermont.org/event/morning-prayer-with-green-mountain-abbey/2024-12-28/
LOCATION:Online
CATEGORIES:Green Mountain Online Abbey
ATTACH;FMTTYPE=image/png:https://diovermont.org/wp-content/uploads/2021/01/Screen-Shot-2021-01-07-at-3.40.48-PM.png
END:VEVENT
BEGIN:VEVENT
DTSTART;TZID=America/New_York:20241228T200000
DTEND;TZID=America/New_York:20241228T203000
DTSTAMP:20260425T122845
CREATED:20240823T163602Z
LAST-MODIFIED:20240830T144825Z
UID:10000222-1735416000-1735417800@diovermont.org
SUMMARY:Evening Prayer with Green Mountain Abbey
DESCRIPTION:The Green Mountain Online Abbey provides a daily offering of online prayer at 8:00 a.m. and 8:00 p.m. Monday through Saturday and 8:00 p.m. Sunday. \nPlease visit the Green Mountain Online Abbey page for more information including call-in instructions and bulletin downloads.
URL:https://diovermont.org/event/evening-prayer-with-green-mountain-abbey/2024-12-28/
LOCATION:Online
CATEGORIES:Green Mountain Online Abbey
ATTACH;FMTTYPE=image/png:https://diovermont.org/wp-content/uploads/2021/01/Screen-Shot-2021-01-07-at-3.40.48-PM.png
END:VEVENT
BEGIN:VEVENT
DTSTART;TZID=America/New_York:20241229T200000
DTEND;TZID=America/New_York:20241229T203000
DTSTAMP:20260425T122845
CREATED:20240823T163602Z
LAST-MODIFIED:20240830T144825Z
UID:10000223-1735502400-1735504200@diovermont.org
SUMMARY:Evening Prayer with Green Mountain Abbey
DESCRIPTION:The Green Mountain Online Abbey provides a daily offering of online prayer at 8:00 a.m. and 8:00 p.m. Monday through Saturday and 8:00 p.m. Sunday. \nPlease visit the Green Mountain Online Abbey page for more information including call-in instructions and bulletin downloads.
URL:https://diovermont.org/event/evening-prayer-with-green-mountain-abbey/2024-12-29/
LOCATION:Online
CATEGORIES:Green Mountain Online Abbey
ATTACH;FMTTYPE=image/png:https://diovermont.org/wp-content/uploads/2021/01/Screen-Shot-2021-01-07-at-3.40.48-PM.png
END:VEVENT
BEGIN:VEVENT
DTSTART;TZID=America/New_York:20241230T080000
DTEND;TZID=America/New_York:20241230T083000
DTSTAMP:20260425T122845
CREATED:20240823T163430Z
LAST-MODIFIED:20240830T144628Z
UID:10002057-1735545600-1735547400@diovermont.org
SUMMARY:Morning Prayer with Green Mountain Abbey
DESCRIPTION:The Green Mountain Online Abbey provides a daily offering of online prayer at 8:00 a.m. and 8:00 p.m. Monday through Saturday and 8:00 p.m. Sunday. \nPlease visit the Green Mountain Online Abbey page for more information including call-in instructions and bulletin downloads.
URL:https://diovermont.org/event/morning-prayer-with-green-mountain-abbey/2024-12-30/
LOCATION:Online
CATEGORIES:Green Mountain Online Abbey
ATTACH;FMTTYPE=image/png:https://diovermont.org/wp-content/uploads/2021/01/Screen-Shot-2021-01-07-at-3.40.48-PM.png
END:VEVENT
BEGIN:VEVENT
DTSTART;TZID=America/New_York:20241230T200000
DTEND;TZID=America/New_York:20241230T203000
DTSTAMP:20260425T122845
CREATED:20240823T163602Z
LAST-MODIFIED:20240830T144825Z
UID:10000224-1735588800-1735590600@diovermont.org
SUMMARY:Evening Prayer with Green Mountain Abbey
DESCRIPTION:The Green Mountain Online Abbey provides a daily offering of online prayer at 8:00 a.m. and 8:00 p.m. Monday through Saturday and 8:00 p.m. Sunday. \nPlease visit the Green Mountain Online Abbey page for more information including call-in instructions and bulletin downloads.
URL:https://diovermont.org/event/evening-prayer-with-green-mountain-abbey/2024-12-30/
LOCATION:Online
CATEGORIES:Green Mountain Online Abbey
ATTACH;FMTTYPE=image/png:https://diovermont.org/wp-content/uploads/2021/01/Screen-Shot-2021-01-07-at-3.40.48-PM.png
END:VEVENT
BEGIN:VEVENT
DTSTART;TZID=America/New_York:20241231T080000
DTEND;TZID=America/New_York:20241231T083000
DTSTAMP:20260425T122845
CREATED:20240823T163430Z
LAST-MODIFIED:20240830T144628Z
UID:10002058-1735632000-1735633800@diovermont.org
SUMMARY:Morning Prayer with Green Mountain Abbey
DESCRIPTION:The Green Mountain Online Abbey provides a daily offering of online prayer at 8:00 a.m. and 8:00 p.m. Monday through Saturday and 8:00 p.m. Sunday. \nPlease visit the Green Mountain Online Abbey page for more information including call-in instructions and bulletin downloads.
URL:https://diovermont.org/event/morning-prayer-with-green-mountain-abbey/2024-12-31/
LOCATION:Online
CATEGORIES:Green Mountain Online Abbey
ATTACH;FMTTYPE=image/png:https://diovermont.org/wp-content/uploads/2021/01/Screen-Shot-2021-01-07-at-3.40.48-PM.png
END:VEVENT
BEGIN:VEVENT
DTSTART;TZID=America/New_York:20241231T200000
DTEND;TZID=America/New_York:20241231T203000
DTSTAMP:20260425T122845
CREATED:20240823T163602Z
LAST-MODIFIED:20240830T144825Z
UID:10000225-1735675200-1735677000@diovermont.org
SUMMARY:Evening Prayer with Green Mountain Abbey
DESCRIPTION:The Green Mountain Online Abbey provides a daily offering of online prayer at 8:00 a.m. and 8:00 p.m. Monday through Saturday and 8:00 p.m. Sunday. \nPlease visit the Green Mountain Online Abbey page for more information including call-in instructions and bulletin downloads.
URL:https://diovermont.org/event/evening-prayer-with-green-mountain-abbey/2024-12-31/
LOCATION:Online
CATEGORIES:Green Mountain Online Abbey
ATTACH;FMTTYPE=image/png:https://diovermont.org/wp-content/uploads/2021/01/Screen-Shot-2021-01-07-at-3.40.48-PM.png
END:VEVENT
BEGIN:VEVENT
DTSTART;TZID=America/New_York:20250101T080000
DTEND;TZID=America/New_York:20250101T083000
DTSTAMP:20260425T122845
CREATED:20240823T163430Z
LAST-MODIFIED:20240830T144628Z
UID:10002059-1735718400-1735720200@diovermont.org
SUMMARY:Morning Prayer with Green Mountain Abbey
DESCRIPTION:The Green Mountain Online Abbey provides a daily offering of online prayer at 8:00 a.m. and 8:00 p.m. Monday through Saturday and 8:00 p.m. Sunday. \nPlease visit the Green Mountain Online Abbey page for more information including call-in instructions and bulletin downloads.
URL:https://diovermont.org/event/morning-prayer-with-green-mountain-abbey/2025-01-01/
LOCATION:Online
CATEGORIES:Green Mountain Online Abbey
ATTACH;FMTTYPE=image/png:https://diovermont.org/wp-content/uploads/2021/01/Screen-Shot-2021-01-07-at-3.40.48-PM.png
END:VEVENT
BEGIN:VEVENT
DTSTART;TZID=America/New_York:20250101T200000
DTEND;TZID=America/New_York:20250101T203000
DTSTAMP:20260425T122845
CREATED:20240823T163602Z
LAST-MODIFIED:20240830T144825Z
UID:10000226-1735761600-1735763400@diovermont.org
SUMMARY:Evening Prayer with Green Mountain Abbey
DESCRIPTION:The Green Mountain Online Abbey provides a daily offering of online prayer at 8:00 a.m. and 8:00 p.m. Monday through Saturday and 8:00 p.m. Sunday. \nPlease visit the Green Mountain Online Abbey page for more information including call-in instructions and bulletin downloads.
URL:https://diovermont.org/event/evening-prayer-with-green-mountain-abbey/2025-01-01/
LOCATION:Online
CATEGORIES:Green Mountain Online Abbey
ATTACH;FMTTYPE=image/png:https://diovermont.org/wp-content/uploads/2021/01/Screen-Shot-2021-01-07-at-3.40.48-PM.png
END:VEVENT
BEGIN:VEVENT
DTSTART;TZID=America/New_York:20250102T080000
DTEND;TZID=America/New_York:20250102T083000
DTSTAMP:20260425T122845
CREATED:20240823T163430Z
LAST-MODIFIED:20240830T144628Z
UID:10002060-1735804800-1735806600@diovermont.org
SUMMARY:Morning Prayer with Green Mountain Abbey
DESCRIPTION:The Green Mountain Online Abbey provides a daily offering of online prayer at 8:00 a.m. and 8:00 p.m. Monday through Saturday and 8:00 p.m. Sunday. \nPlease visit the Green Mountain Online Abbey page for more information including call-in instructions and bulletin downloads.
URL:https://diovermont.org/event/morning-prayer-with-green-mountain-abbey/2025-01-02/
LOCATION:Online
CATEGORIES:Green Mountain Online Abbey
ATTACH;FMTTYPE=image/png:https://diovermont.org/wp-content/uploads/2021/01/Screen-Shot-2021-01-07-at-3.40.48-PM.png
END:VEVENT
BEGIN:VEVENT
DTSTART;TZID=America/New_York:20250102T200000
DTEND;TZID=America/New_York:20250102T203000
DTSTAMP:20260425T122845
CREATED:20240823T163602Z
LAST-MODIFIED:20240830T144825Z
UID:10000227-1735848000-1735849800@diovermont.org
SUMMARY:Evening Prayer with Green Mountain Abbey
DESCRIPTION:The Green Mountain Online Abbey provides a daily offering of online prayer at 8:00 a.m. and 8:00 p.m. Monday through Saturday and 8:00 p.m. Sunday. \nPlease visit the Green Mountain Online Abbey page for more information including call-in instructions and bulletin downloads.
URL:https://diovermont.org/event/evening-prayer-with-green-mountain-abbey/2025-01-02/
LOCATION:Online
CATEGORIES:Green Mountain Online Abbey
ATTACH;FMTTYPE=image/png:https://diovermont.org/wp-content/uploads/2021/01/Screen-Shot-2021-01-07-at-3.40.48-PM.png
END:VEVENT
BEGIN:VEVENT
DTSTART;TZID=America/New_York:20250103T080000
DTEND;TZID=America/New_York:20250103T083000
DTSTAMP:20260425T122845
CREATED:20240823T163430Z
LAST-MODIFIED:20240830T144628Z
UID:10002061-1735891200-1735893000@diovermont.org
SUMMARY:Morning Prayer with Green Mountain Abbey
DESCRIPTION:The Green Mountain Online Abbey provides a daily offering of online prayer at 8:00 a.m. and 8:00 p.m. Monday through Saturday and 8:00 p.m. Sunday. \nPlease visit the Green Mountain Online Abbey page for more information including call-in instructions and bulletin downloads.
URL:https://diovermont.org/event/morning-prayer-with-green-mountain-abbey/2025-01-03/
LOCATION:Online
CATEGORIES:Green Mountain Online Abbey
ATTACH;FMTTYPE=image/png:https://diovermont.org/wp-content/uploads/2021/01/Screen-Shot-2021-01-07-at-3.40.48-PM.png
END:VEVENT
BEGIN:VEVENT
DTSTART;TZID=America/New_York:20250103T200000
DTEND;TZID=America/New_York:20250103T203000
DTSTAMP:20260425T122845
CREATED:20240823T163602Z
LAST-MODIFIED:20240830T144825Z
UID:10000228-1735934400-1735936200@diovermont.org
SUMMARY:Evening Prayer with Green Mountain Abbey
DESCRIPTION:The Green Mountain Online Abbey provides a daily offering of online prayer at 8:00 a.m. and 8:00 p.m. Monday through Saturday and 8:00 p.m. Sunday. \nPlease visit the Green Mountain Online Abbey page for more information including call-in instructions and bulletin downloads.
URL:https://diovermont.org/event/evening-prayer-with-green-mountain-abbey/2025-01-03/
LOCATION:Online
CATEGORIES:Green Mountain Online Abbey
ATTACH;FMTTYPE=image/png:https://diovermont.org/wp-content/uploads/2021/01/Screen-Shot-2021-01-07-at-3.40.48-PM.png
END:VEVENT
BEGIN:VEVENT
DTSTART;TZID=America/New_York:20250104T080000
DTEND;TZID=America/New_York:20250104T083000
DTSTAMP:20260425T122845
CREATED:20240823T163430Z
LAST-MODIFIED:20240830T144628Z
UID:10002062-1735977600-1735979400@diovermont.org
SUMMARY:Morning Prayer with Green Mountain Abbey
DESCRIPTION:The Green Mountain Online Abbey provides a daily offering of online prayer at 8:00 a.m. and 8:00 p.m. Monday through Saturday and 8:00 p.m. Sunday. \nPlease visit the Green Mountain Online Abbey page for more information including call-in instructions and bulletin downloads.
URL:https://diovermont.org/event/morning-prayer-with-green-mountain-abbey/2025-01-04/
LOCATION:Online
CATEGORIES:Green Mountain Online Abbey
ATTACH;FMTTYPE=image/png:https://diovermont.org/wp-content/uploads/2021/01/Screen-Shot-2021-01-07-at-3.40.48-PM.png
END:VEVENT
END:VCALENDAR