BEGIN:VCALENDAR
VERSION:2.0
PRODID:-//Episcopal Diocese of Vermont - ECPv6.15.20//NONSGML v1.0//EN
CALSCALE:GREGORIAN
METHOD:PUBLISH
X-WR-CALNAME:Episcopal Diocese of Vermont
X-ORIGINAL-URL:https://diovermont.org
X-WR-CALDESC:Events for Episcopal Diocese of Vermont
REFRESH-INTERVAL;VALUE=DURATION:PT1H
X-Robots-Tag:noindex
X-PUBLISHED-TTL:PT1H
BEGIN:VTIMEZONE
TZID:America/New_York
BEGIN:DAYLIGHT
TZOFFSETFROM:-0500
TZOFFSETTO:-0400
TZNAME:EDT
DTSTART:20240310T070000
END:DAYLIGHT
BEGIN:STANDARD
TZOFFSETFROM:-0400
TZOFFSETTO:-0500
TZNAME:EST
DTSTART:20241103T060000
END:STANDARD
BEGIN:DAYLIGHT
TZOFFSETFROM:-0500
TZOFFSETTO:-0400
TZNAME:EDT
DTSTART:20250309T070000
END:DAYLIGHT
BEGIN:STANDARD
TZOFFSETFROM:-0400
TZOFFSETTO:-0500
TZNAME:EST
DTSTART:20251102T060000
END:STANDARD
BEGIN:DAYLIGHT
TZOFFSETFROM:-0500
TZOFFSETTO:-0400
TZNAME:EDT
DTSTART:20260308T070000
END:DAYLIGHT
BEGIN:STANDARD
TZOFFSETFROM:-0400
TZOFFSETTO:-0500
TZNAME:EST
DTSTART:20261101T060000
END:STANDARD
END:VTIMEZONE
BEGIN:VEVENT
DTSTART;TZID=America/New_York:20250527T080000
DTEND;TZID=America/New_York:20250527T083000
DTSTAMP:20260419T145505
CREATED:20240823T163430Z
LAST-MODIFIED:20240830T144628Z
UID:10002184-1748332800-1748334600@diovermont.org
SUMMARY:Morning Prayer with Green Mountain Abbey
DESCRIPTION:The Green Mountain Online Abbey provides a daily offering of online prayer at 8:00 a.m. and 8:00 p.m. Monday through Saturday and 8:00 p.m. Sunday. \nPlease visit the Green Mountain Online Abbey page for more information including call-in instructions and bulletin downloads.
URL:https://diovermont.org/event/morning-prayer-with-green-mountain-abbey/2025-05-27/
LOCATION:Online
CATEGORIES:Green Mountain Online Abbey
ATTACH;FMTTYPE=image/png:https://diovermont.org/wp-content/uploads/2021/01/Screen-Shot-2021-01-07-at-3.40.48-PM.png
END:VEVENT
BEGIN:VEVENT
DTSTART;TZID=America/New_York:20250527T200000
DTEND;TZID=America/New_York:20250527T203000
DTSTAMP:20260419T145505
CREATED:20240823T163602Z
LAST-MODIFIED:20240830T144825Z
UID:10000372-1748376000-1748377800@diovermont.org
SUMMARY:Evening Prayer with Green Mountain Abbey
DESCRIPTION:The Green Mountain Online Abbey provides a daily offering of online prayer at 8:00 a.m. and 8:00 p.m. Monday through Saturday and 8:00 p.m. Sunday. \nPlease visit the Green Mountain Online Abbey page for more information including call-in instructions and bulletin downloads.
URL:https://diovermont.org/event/evening-prayer-with-green-mountain-abbey/2025-05-27/
LOCATION:Online
CATEGORIES:Green Mountain Online Abbey
ATTACH;FMTTYPE=image/png:https://diovermont.org/wp-content/uploads/2021/01/Screen-Shot-2021-01-07-at-3.40.48-PM.png
END:VEVENT
BEGIN:VEVENT
DTSTART;TZID=America/New_York:20250528T080000
DTEND;TZID=America/New_York:20250528T083000
DTSTAMP:20260419T145505
CREATED:20240823T163430Z
LAST-MODIFIED:20240830T144628Z
UID:10002185-1748419200-1748421000@diovermont.org
SUMMARY:Morning Prayer with Green Mountain Abbey
DESCRIPTION:The Green Mountain Online Abbey provides a daily offering of online prayer at 8:00 a.m. and 8:00 p.m. Monday through Saturday and 8:00 p.m. Sunday. \nPlease visit the Green Mountain Online Abbey page for more information including call-in instructions and bulletin downloads.
URL:https://diovermont.org/event/morning-prayer-with-green-mountain-abbey/2025-05-28/
LOCATION:Online
CATEGORIES:Green Mountain Online Abbey
ATTACH;FMTTYPE=image/png:https://diovermont.org/wp-content/uploads/2021/01/Screen-Shot-2021-01-07-at-3.40.48-PM.png
END:VEVENT
BEGIN:VEVENT
DTSTART;TZID=America/New_York:20250528T200000
DTEND;TZID=America/New_York:20250528T203000
DTSTAMP:20260419T145505
CREATED:20240823T163602Z
LAST-MODIFIED:20240830T144825Z
UID:10000373-1748462400-1748464200@diovermont.org
SUMMARY:Evening Prayer with Green Mountain Abbey
DESCRIPTION:The Green Mountain Online Abbey provides a daily offering of online prayer at 8:00 a.m. and 8:00 p.m. Monday through Saturday and 8:00 p.m. Sunday. \nPlease visit the Green Mountain Online Abbey page for more information including call-in instructions and bulletin downloads.
URL:https://diovermont.org/event/evening-prayer-with-green-mountain-abbey/2025-05-28/
LOCATION:Online
CATEGORIES:Green Mountain Online Abbey
ATTACH;FMTTYPE=image/png:https://diovermont.org/wp-content/uploads/2021/01/Screen-Shot-2021-01-07-at-3.40.48-PM.png
END:VEVENT
BEGIN:VEVENT
DTSTART;TZID=America/New_York:20250529T080000
DTEND;TZID=America/New_York:20250529T083000
DTSTAMP:20260419T145506
CREATED:20240823T163430Z
LAST-MODIFIED:20240830T144628Z
UID:10002186-1748505600-1748507400@diovermont.org
SUMMARY:Morning Prayer with Green Mountain Abbey
DESCRIPTION:The Green Mountain Online Abbey provides a daily offering of online prayer at 8:00 a.m. and 8:00 p.m. Monday through Saturday and 8:00 p.m. Sunday. \nPlease visit the Green Mountain Online Abbey page for more information including call-in instructions and bulletin downloads.
URL:https://diovermont.org/event/morning-prayer-with-green-mountain-abbey/2025-05-29/
LOCATION:Online
CATEGORIES:Green Mountain Online Abbey
ATTACH;FMTTYPE=image/png:https://diovermont.org/wp-content/uploads/2021/01/Screen-Shot-2021-01-07-at-3.40.48-PM.png
END:VEVENT
BEGIN:VEVENT
DTSTART;TZID=America/New_York:20250529T200000
DTEND;TZID=America/New_York:20250529T203000
DTSTAMP:20260419T145506
CREATED:20240823T163602Z
LAST-MODIFIED:20240830T144825Z
UID:10000374-1748548800-1748550600@diovermont.org
SUMMARY:Evening Prayer with Green Mountain Abbey
DESCRIPTION:The Green Mountain Online Abbey provides a daily offering of online prayer at 8:00 a.m. and 8:00 p.m. Monday through Saturday and 8:00 p.m. Sunday. \nPlease visit the Green Mountain Online Abbey page for more information including call-in instructions and bulletin downloads.
URL:https://diovermont.org/event/evening-prayer-with-green-mountain-abbey/2025-05-29/
LOCATION:Online
CATEGORIES:Green Mountain Online Abbey
ATTACH;FMTTYPE=image/png:https://diovermont.org/wp-content/uploads/2021/01/Screen-Shot-2021-01-07-at-3.40.48-PM.png
END:VEVENT
BEGIN:VEVENT
DTSTART;TZID=America/New_York:20250530T080000
DTEND;TZID=America/New_York:20250530T083000
DTSTAMP:20260419T145506
CREATED:20240823T163430Z
LAST-MODIFIED:20240830T144628Z
UID:10002187-1748592000-1748593800@diovermont.org
SUMMARY:Morning Prayer with Green Mountain Abbey
DESCRIPTION:The Green Mountain Online Abbey provides a daily offering of online prayer at 8:00 a.m. and 8:00 p.m. Monday through Saturday and 8:00 p.m. Sunday. \nPlease visit the Green Mountain Online Abbey page for more information including call-in instructions and bulletin downloads.
URL:https://diovermont.org/event/morning-prayer-with-green-mountain-abbey/2025-05-30/
LOCATION:Online
CATEGORIES:Green Mountain Online Abbey
ATTACH;FMTTYPE=image/png:https://diovermont.org/wp-content/uploads/2021/01/Screen-Shot-2021-01-07-at-3.40.48-PM.png
END:VEVENT
BEGIN:VEVENT
DTSTART;TZID=America/New_York:20250530T200000
DTEND;TZID=America/New_York:20250530T203000
DTSTAMP:20260419T145506
CREATED:20240823T163602Z
LAST-MODIFIED:20240830T144825Z
UID:10000375-1748635200-1748637000@diovermont.org
SUMMARY:Evening Prayer with Green Mountain Abbey
DESCRIPTION:The Green Mountain Online Abbey provides a daily offering of online prayer at 8:00 a.m. and 8:00 p.m. Monday through Saturday and 8:00 p.m. Sunday. \nPlease visit the Green Mountain Online Abbey page for more information including call-in instructions and bulletin downloads.
URL:https://diovermont.org/event/evening-prayer-with-green-mountain-abbey/2025-05-30/
LOCATION:Online
CATEGORIES:Green Mountain Online Abbey
ATTACH;FMTTYPE=image/png:https://diovermont.org/wp-content/uploads/2021/01/Screen-Shot-2021-01-07-at-3.40.48-PM.png
END:VEVENT
BEGIN:VEVENT
DTSTART;TZID=America/New_York:20250531T080000
DTEND;TZID=America/New_York:20250531T083000
DTSTAMP:20260419T145506
CREATED:20240823T163430Z
LAST-MODIFIED:20240830T144628Z
UID:10002188-1748678400-1748680200@diovermont.org
SUMMARY:Morning Prayer with Green Mountain Abbey
DESCRIPTION:The Green Mountain Online Abbey provides a daily offering of online prayer at 8:00 a.m. and 8:00 p.m. Monday through Saturday and 8:00 p.m. Sunday. \nPlease visit the Green Mountain Online Abbey page for more information including call-in instructions and bulletin downloads.
URL:https://diovermont.org/event/morning-prayer-with-green-mountain-abbey/2025-05-31/
LOCATION:Online
CATEGORIES:Green Mountain Online Abbey
ATTACH;FMTTYPE=image/png:https://diovermont.org/wp-content/uploads/2021/01/Screen-Shot-2021-01-07-at-3.40.48-PM.png
END:VEVENT
BEGIN:VEVENT
DTSTART;TZID=America/New_York:20250531T200000
DTEND;TZID=America/New_York:20250531T203000
DTSTAMP:20260419T145506
CREATED:20240823T163602Z
LAST-MODIFIED:20240830T144825Z
UID:10000376-1748721600-1748723400@diovermont.org
SUMMARY:Evening Prayer with Green Mountain Abbey
DESCRIPTION:The Green Mountain Online Abbey provides a daily offering of online prayer at 8:00 a.m. and 8:00 p.m. Monday through Saturday and 8:00 p.m. Sunday. \nPlease visit the Green Mountain Online Abbey page for more information including call-in instructions and bulletin downloads.
URL:https://diovermont.org/event/evening-prayer-with-green-mountain-abbey/2025-05-31/
LOCATION:Online
CATEGORIES:Green Mountain Online Abbey
ATTACH;FMTTYPE=image/png:https://diovermont.org/wp-content/uploads/2021/01/Screen-Shot-2021-01-07-at-3.40.48-PM.png
END:VEVENT
BEGIN:VEVENT
DTSTART;TZID=America/New_York:20250601T200000
DTEND;TZID=America/New_York:20250601T203000
DTSTAMP:20260419T145506
CREATED:20240823T163602Z
LAST-MODIFIED:20240830T144825Z
UID:10000377-1748808000-1748809800@diovermont.org
SUMMARY:Evening Prayer with Green Mountain Abbey
DESCRIPTION:The Green Mountain Online Abbey provides a daily offering of online prayer at 8:00 a.m. and 8:00 p.m. Monday through Saturday and 8:00 p.m. Sunday. \nPlease visit the Green Mountain Online Abbey page for more information including call-in instructions and bulletin downloads.
URL:https://diovermont.org/event/evening-prayer-with-green-mountain-abbey/2025-06-01/
LOCATION:Online
CATEGORIES:Green Mountain Online Abbey
ATTACH;FMTTYPE=image/png:https://diovermont.org/wp-content/uploads/2021/01/Screen-Shot-2021-01-07-at-3.40.48-PM.png
END:VEVENT
BEGIN:VEVENT
DTSTART;TZID=America/New_York:20250602T080000
DTEND;TZID=America/New_York:20250602T083000
DTSTAMP:20260419T145506
CREATED:20240823T163430Z
LAST-MODIFIED:20240830T144628Z
UID:10002189-1748851200-1748853000@diovermont.org
SUMMARY:Morning Prayer with Green Mountain Abbey
DESCRIPTION:The Green Mountain Online Abbey provides a daily offering of online prayer at 8:00 a.m. and 8:00 p.m. Monday through Saturday and 8:00 p.m. Sunday. \nPlease visit the Green Mountain Online Abbey page for more information including call-in instructions and bulletin downloads.
URL:https://diovermont.org/event/morning-prayer-with-green-mountain-abbey/2025-06-02/
LOCATION:Online
CATEGORIES:Green Mountain Online Abbey
ATTACH;FMTTYPE=image/png:https://diovermont.org/wp-content/uploads/2021/01/Screen-Shot-2021-01-07-at-3.40.48-PM.png
END:VEVENT
BEGIN:VEVENT
DTSTART;TZID=America/New_York:20250602T200000
DTEND;TZID=America/New_York:20250602T203000
DTSTAMP:20260419T145506
CREATED:20240823T163602Z
LAST-MODIFIED:20240830T144825Z
UID:10000378-1748894400-1748896200@diovermont.org
SUMMARY:Evening Prayer with Green Mountain Abbey
DESCRIPTION:The Green Mountain Online Abbey provides a daily offering of online prayer at 8:00 a.m. and 8:00 p.m. Monday through Saturday and 8:00 p.m. Sunday. \nPlease visit the Green Mountain Online Abbey page for more information including call-in instructions and bulletin downloads.
URL:https://diovermont.org/event/evening-prayer-with-green-mountain-abbey/2025-06-02/
LOCATION:Online
CATEGORIES:Green Mountain Online Abbey
ATTACH;FMTTYPE=image/png:https://diovermont.org/wp-content/uploads/2021/01/Screen-Shot-2021-01-07-at-3.40.48-PM.png
END:VEVENT
BEGIN:VEVENT
DTSTART;TZID=America/New_York:20250603T080000
DTEND;TZID=America/New_York:20250603T083000
DTSTAMP:20260419T145506
CREATED:20240823T163430Z
LAST-MODIFIED:20240830T144628Z
UID:10002190-1748937600-1748939400@diovermont.org
SUMMARY:Morning Prayer with Green Mountain Abbey
DESCRIPTION:The Green Mountain Online Abbey provides a daily offering of online prayer at 8:00 a.m. and 8:00 p.m. Monday through Saturday and 8:00 p.m. Sunday. \nPlease visit the Green Mountain Online Abbey page for more information including call-in instructions and bulletin downloads.
URL:https://diovermont.org/event/morning-prayer-with-green-mountain-abbey/2025-06-03/
LOCATION:Online
CATEGORIES:Green Mountain Online Abbey
ATTACH;FMTTYPE=image/png:https://diovermont.org/wp-content/uploads/2021/01/Screen-Shot-2021-01-07-at-3.40.48-PM.png
END:VEVENT
BEGIN:VEVENT
DTSTART;TZID=America/New_York:20250603T200000
DTEND;TZID=America/New_York:20250603T203000
DTSTAMP:20260419T145506
CREATED:20240823T163602Z
LAST-MODIFIED:20240830T144825Z
UID:10000379-1748980800-1748982600@diovermont.org
SUMMARY:Evening Prayer with Green Mountain Abbey
DESCRIPTION:The Green Mountain Online Abbey provides a daily offering of online prayer at 8:00 a.m. and 8:00 p.m. Monday through Saturday and 8:00 p.m. Sunday. \nPlease visit the Green Mountain Online Abbey page for more information including call-in instructions and bulletin downloads.
URL:https://diovermont.org/event/evening-prayer-with-green-mountain-abbey/2025-06-03/
LOCATION:Online
CATEGORIES:Green Mountain Online Abbey
ATTACH;FMTTYPE=image/png:https://diovermont.org/wp-content/uploads/2021/01/Screen-Shot-2021-01-07-at-3.40.48-PM.png
END:VEVENT
BEGIN:VEVENT
DTSTART;TZID=America/New_York:20250604T080000
DTEND;TZID=America/New_York:20250604T083000
DTSTAMP:20260419T145506
CREATED:20240823T163430Z
LAST-MODIFIED:20240830T144628Z
UID:10002191-1749024000-1749025800@diovermont.org
SUMMARY:Morning Prayer with Green Mountain Abbey
DESCRIPTION:The Green Mountain Online Abbey provides a daily offering of online prayer at 8:00 a.m. and 8:00 p.m. Monday through Saturday and 8:00 p.m. Sunday. \nPlease visit the Green Mountain Online Abbey page for more information including call-in instructions and bulletin downloads.
URL:https://diovermont.org/event/morning-prayer-with-green-mountain-abbey/2025-06-04/
LOCATION:Online
CATEGORIES:Green Mountain Online Abbey
ATTACH;FMTTYPE=image/png:https://diovermont.org/wp-content/uploads/2021/01/Screen-Shot-2021-01-07-at-3.40.48-PM.png
END:VEVENT
BEGIN:VEVENT
DTSTART;TZID=America/New_York:20250604T200000
DTEND;TZID=America/New_York:20250604T203000
DTSTAMP:20260419T145506
CREATED:20240823T163602Z
LAST-MODIFIED:20240830T144825Z
UID:10000380-1749067200-1749069000@diovermont.org
SUMMARY:Evening Prayer with Green Mountain Abbey
DESCRIPTION:The Green Mountain Online Abbey provides a daily offering of online prayer at 8:00 a.m. and 8:00 p.m. Monday through Saturday and 8:00 p.m. Sunday. \nPlease visit the Green Mountain Online Abbey page for more information including call-in instructions and bulletin downloads.
URL:https://diovermont.org/event/evening-prayer-with-green-mountain-abbey/2025-06-04/
LOCATION:Online
CATEGORIES:Green Mountain Online Abbey
ATTACH;FMTTYPE=image/png:https://diovermont.org/wp-content/uploads/2021/01/Screen-Shot-2021-01-07-at-3.40.48-PM.png
END:VEVENT
BEGIN:VEVENT
DTSTART;TZID=America/New_York:20250605T080000
DTEND;TZID=America/New_York:20250605T083000
DTSTAMP:20260419T145506
CREATED:20240823T163430Z
LAST-MODIFIED:20240830T144628Z
UID:10002192-1749110400-1749112200@diovermont.org
SUMMARY:Morning Prayer with Green Mountain Abbey
DESCRIPTION:The Green Mountain Online Abbey provides a daily offering of online prayer at 8:00 a.m. and 8:00 p.m. Monday through Saturday and 8:00 p.m. Sunday. \nPlease visit the Green Mountain Online Abbey page for more information including call-in instructions and bulletin downloads.
URL:https://diovermont.org/event/morning-prayer-with-green-mountain-abbey/2025-06-05/
LOCATION:Online
CATEGORIES:Green Mountain Online Abbey
ATTACH;FMTTYPE=image/png:https://diovermont.org/wp-content/uploads/2021/01/Screen-Shot-2021-01-07-at-3.40.48-PM.png
END:VEVENT
BEGIN:VEVENT
DTSTART;TZID=America/New_York:20250605T200000
DTEND;TZID=America/New_York:20250605T203000
DTSTAMP:20260419T145506
CREATED:20240823T163602Z
LAST-MODIFIED:20240830T144825Z
UID:10000381-1749153600-1749155400@diovermont.org
SUMMARY:Evening Prayer with Green Mountain Abbey
DESCRIPTION:The Green Mountain Online Abbey provides a daily offering of online prayer at 8:00 a.m. and 8:00 p.m. Monday through Saturday and 8:00 p.m. Sunday. \nPlease visit the Green Mountain Online Abbey page for more information including call-in instructions and bulletin downloads.
URL:https://diovermont.org/event/evening-prayer-with-green-mountain-abbey/2025-06-05/
LOCATION:Online
CATEGORIES:Green Mountain Online Abbey
ATTACH;FMTTYPE=image/png:https://diovermont.org/wp-content/uploads/2021/01/Screen-Shot-2021-01-07-at-3.40.48-PM.png
END:VEVENT
BEGIN:VEVENT
DTSTART;TZID=America/New_York:20250606T080000
DTEND;TZID=America/New_York:20250606T083000
DTSTAMP:20260419T145506
CREATED:20240823T163430Z
LAST-MODIFIED:20240830T144628Z
UID:10002193-1749196800-1749198600@diovermont.org
SUMMARY:Morning Prayer with Green Mountain Abbey
DESCRIPTION:The Green Mountain Online Abbey provides a daily offering of online prayer at 8:00 a.m. and 8:00 p.m. Monday through Saturday and 8:00 p.m. Sunday. \nPlease visit the Green Mountain Online Abbey page for more information including call-in instructions and bulletin downloads.
URL:https://diovermont.org/event/morning-prayer-with-green-mountain-abbey/2025-06-06/
LOCATION:Online
CATEGORIES:Green Mountain Online Abbey
ATTACH;FMTTYPE=image/png:https://diovermont.org/wp-content/uploads/2021/01/Screen-Shot-2021-01-07-at-3.40.48-PM.png
END:VEVENT
BEGIN:VEVENT
DTSTART;TZID=America/New_York:20250606T200000
DTEND;TZID=America/New_York:20250606T203000
DTSTAMP:20260419T145506
CREATED:20240823T163602Z
LAST-MODIFIED:20240830T144825Z
UID:10000382-1749240000-1749241800@diovermont.org
SUMMARY:Evening Prayer with Green Mountain Abbey
DESCRIPTION:The Green Mountain Online Abbey provides a daily offering of online prayer at 8:00 a.m. and 8:00 p.m. Monday through Saturday and 8:00 p.m. Sunday. \nPlease visit the Green Mountain Online Abbey page for more information including call-in instructions and bulletin downloads.
URL:https://diovermont.org/event/evening-prayer-with-green-mountain-abbey/2025-06-06/
LOCATION:Online
CATEGORIES:Green Mountain Online Abbey
ATTACH;FMTTYPE=image/png:https://diovermont.org/wp-content/uploads/2021/01/Screen-Shot-2021-01-07-at-3.40.48-PM.png
END:VEVENT
BEGIN:VEVENT
DTSTART;TZID=America/New_York:20250607T080000
DTEND;TZID=America/New_York:20250607T083000
DTSTAMP:20260419T145506
CREATED:20240823T163430Z
LAST-MODIFIED:20240830T144628Z
UID:10002194-1749283200-1749285000@diovermont.org
SUMMARY:Morning Prayer with Green Mountain Abbey
DESCRIPTION:The Green Mountain Online Abbey provides a daily offering of online prayer at 8:00 a.m. and 8:00 p.m. Monday through Saturday and 8:00 p.m. Sunday. \nPlease visit the Green Mountain Online Abbey page for more information including call-in instructions and bulletin downloads.
URL:https://diovermont.org/event/morning-prayer-with-green-mountain-abbey/2025-06-07/
LOCATION:Online
CATEGORIES:Green Mountain Online Abbey
ATTACH;FMTTYPE=image/png:https://diovermont.org/wp-content/uploads/2021/01/Screen-Shot-2021-01-07-at-3.40.48-PM.png
END:VEVENT
BEGIN:VEVENT
DTSTART;TZID=America/New_York:20250607T200000
DTEND;TZID=America/New_York:20250607T203000
DTSTAMP:20260419T145506
CREATED:20240823T163602Z
LAST-MODIFIED:20240830T144825Z
UID:10000383-1749326400-1749328200@diovermont.org
SUMMARY:Evening Prayer with Green Mountain Abbey
DESCRIPTION:The Green Mountain Online Abbey provides a daily offering of online prayer at 8:00 a.m. and 8:00 p.m. Monday through Saturday and 8:00 p.m. Sunday. \nPlease visit the Green Mountain Online Abbey page for more information including call-in instructions and bulletin downloads.
URL:https://diovermont.org/event/evening-prayer-with-green-mountain-abbey/2025-06-07/
LOCATION:Online
CATEGORIES:Green Mountain Online Abbey
ATTACH;FMTTYPE=image/png:https://diovermont.org/wp-content/uploads/2021/01/Screen-Shot-2021-01-07-at-3.40.48-PM.png
END:VEVENT
BEGIN:VEVENT
DTSTART;TZID=America/New_York:20250608T200000
DTEND;TZID=America/New_York:20250608T203000
DTSTAMP:20260419T145506
CREATED:20240823T163602Z
LAST-MODIFIED:20240830T144825Z
UID:10000384-1749412800-1749414600@diovermont.org
SUMMARY:Evening Prayer with Green Mountain Abbey
DESCRIPTION:The Green Mountain Online Abbey provides a daily offering of online prayer at 8:00 a.m. and 8:00 p.m. Monday through Saturday and 8:00 p.m. Sunday. \nPlease visit the Green Mountain Online Abbey page for more information including call-in instructions and bulletin downloads.
URL:https://diovermont.org/event/evening-prayer-with-green-mountain-abbey/2025-06-08/
LOCATION:Online
CATEGORIES:Green Mountain Online Abbey
ATTACH;FMTTYPE=image/png:https://diovermont.org/wp-content/uploads/2021/01/Screen-Shot-2021-01-07-at-3.40.48-PM.png
END:VEVENT
BEGIN:VEVENT
DTSTART;TZID=America/New_York:20250609T080000
DTEND;TZID=America/New_York:20250609T083000
DTSTAMP:20260419T145506
CREATED:20240823T163430Z
LAST-MODIFIED:20240830T144628Z
UID:10002195-1749456000-1749457800@diovermont.org
SUMMARY:Morning Prayer with Green Mountain Abbey
DESCRIPTION:The Green Mountain Online Abbey provides a daily offering of online prayer at 8:00 a.m. and 8:00 p.m. Monday through Saturday and 8:00 p.m. Sunday. \nPlease visit the Green Mountain Online Abbey page for more information including call-in instructions and bulletin downloads.
URL:https://diovermont.org/event/morning-prayer-with-green-mountain-abbey/2025-06-09/
LOCATION:Online
CATEGORIES:Green Mountain Online Abbey
ATTACH;FMTTYPE=image/png:https://diovermont.org/wp-content/uploads/2021/01/Screen-Shot-2021-01-07-at-3.40.48-PM.png
END:VEVENT
BEGIN:VEVENT
DTSTART;TZID=America/New_York:20250609T200000
DTEND;TZID=America/New_York:20250609T203000
DTSTAMP:20260419T145506
CREATED:20240823T163602Z
LAST-MODIFIED:20240830T144825Z
UID:10000385-1749499200-1749501000@diovermont.org
SUMMARY:Evening Prayer with Green Mountain Abbey
DESCRIPTION:The Green Mountain Online Abbey provides a daily offering of online prayer at 8:00 a.m. and 8:00 p.m. Monday through Saturday and 8:00 p.m. Sunday. \nPlease visit the Green Mountain Online Abbey page for more information including call-in instructions and bulletin downloads.
URL:https://diovermont.org/event/evening-prayer-with-green-mountain-abbey/2025-06-09/
LOCATION:Online
CATEGORIES:Green Mountain Online Abbey
ATTACH;FMTTYPE=image/png:https://diovermont.org/wp-content/uploads/2021/01/Screen-Shot-2021-01-07-at-3.40.48-PM.png
END:VEVENT
BEGIN:VEVENT
DTSTART;TZID=America/New_York:20250610T080000
DTEND;TZID=America/New_York:20250610T083000
DTSTAMP:20260419T145506
CREATED:20240823T163430Z
LAST-MODIFIED:20240830T144628Z
UID:10002196-1749542400-1749544200@diovermont.org
SUMMARY:Morning Prayer with Green Mountain Abbey
DESCRIPTION:The Green Mountain Online Abbey provides a daily offering of online prayer at 8:00 a.m. and 8:00 p.m. Monday through Saturday and 8:00 p.m. Sunday. \nPlease visit the Green Mountain Online Abbey page for more information including call-in instructions and bulletin downloads.
URL:https://diovermont.org/event/morning-prayer-with-green-mountain-abbey/2025-06-10/
LOCATION:Online
CATEGORIES:Green Mountain Online Abbey
ATTACH;FMTTYPE=image/png:https://diovermont.org/wp-content/uploads/2021/01/Screen-Shot-2021-01-07-at-3.40.48-PM.png
END:VEVENT
BEGIN:VEVENT
DTSTART;TZID=America/New_York:20250610T200000
DTEND;TZID=America/New_York:20250610T203000
DTSTAMP:20260419T145506
CREATED:20240823T163602Z
LAST-MODIFIED:20240830T144825Z
UID:10000386-1749585600-1749587400@diovermont.org
SUMMARY:Evening Prayer with Green Mountain Abbey
DESCRIPTION:The Green Mountain Online Abbey provides a daily offering of online prayer at 8:00 a.m. and 8:00 p.m. Monday through Saturday and 8:00 p.m. Sunday. \nPlease visit the Green Mountain Online Abbey page for more information including call-in instructions and bulletin downloads.
URL:https://diovermont.org/event/evening-prayer-with-green-mountain-abbey/2025-06-10/
LOCATION:Online
CATEGORIES:Green Mountain Online Abbey
ATTACH;FMTTYPE=image/png:https://diovermont.org/wp-content/uploads/2021/01/Screen-Shot-2021-01-07-at-3.40.48-PM.png
END:VEVENT
BEGIN:VEVENT
DTSTART;TZID=America/New_York:20250611T080000
DTEND;TZID=America/New_York:20250611T083000
DTSTAMP:20260419T145506
CREATED:20240823T163430Z
LAST-MODIFIED:20240830T144628Z
UID:10002197-1749628800-1749630600@diovermont.org
SUMMARY:Morning Prayer with Green Mountain Abbey
DESCRIPTION:The Green Mountain Online Abbey provides a daily offering of online prayer at 8:00 a.m. and 8:00 p.m. Monday through Saturday and 8:00 p.m. Sunday. \nPlease visit the Green Mountain Online Abbey page for more information including call-in instructions and bulletin downloads.
URL:https://diovermont.org/event/morning-prayer-with-green-mountain-abbey/2025-06-11/
LOCATION:Online
CATEGORIES:Green Mountain Online Abbey
ATTACH;FMTTYPE=image/png:https://diovermont.org/wp-content/uploads/2021/01/Screen-Shot-2021-01-07-at-3.40.48-PM.png
END:VEVENT
BEGIN:VEVENT
DTSTART;TZID=America/New_York:20250611T200000
DTEND;TZID=America/New_York:20250611T203000
DTSTAMP:20260419T145506
CREATED:20240823T163602Z
LAST-MODIFIED:20240830T144825Z
UID:10000387-1749672000-1749673800@diovermont.org
SUMMARY:Evening Prayer with Green Mountain Abbey
DESCRIPTION:The Green Mountain Online Abbey provides a daily offering of online prayer at 8:00 a.m. and 8:00 p.m. Monday through Saturday and 8:00 p.m. Sunday. \nPlease visit the Green Mountain Online Abbey page for more information including call-in instructions and bulletin downloads.
URL:https://diovermont.org/event/evening-prayer-with-green-mountain-abbey/2025-06-11/
LOCATION:Online
CATEGORIES:Green Mountain Online Abbey
ATTACH;FMTTYPE=image/png:https://diovermont.org/wp-content/uploads/2021/01/Screen-Shot-2021-01-07-at-3.40.48-PM.png
END:VEVENT
END:VCALENDAR