BEGIN:VCALENDAR
VERSION:2.0
PRODID:-//Episcopal Diocese of Vermont - ECPv6.15.20//NONSGML v1.0//EN
CALSCALE:GREGORIAN
METHOD:PUBLISH
X-WR-CALNAME:Episcopal Diocese of Vermont
X-ORIGINAL-URL:https://diovermont.org
X-WR-CALDESC:Events for Episcopal Diocese of Vermont
REFRESH-INTERVAL;VALUE=DURATION:PT1H
X-Robots-Tag:noindex
X-PUBLISHED-TTL:PT1H
BEGIN:VTIMEZONE
TZID:America/New_York
BEGIN:DAYLIGHT
TZOFFSETFROM:-0500
TZOFFSETTO:-0400
TZNAME:EDT
DTSTART:20250309T070000
END:DAYLIGHT
BEGIN:STANDARD
TZOFFSETFROM:-0400
TZOFFSETTO:-0500
TZNAME:EST
DTSTART:20251102T060000
END:STANDARD
BEGIN:DAYLIGHT
TZOFFSETFROM:-0500
TZOFFSETTO:-0400
TZNAME:EDT
DTSTART:20260308T070000
END:DAYLIGHT
BEGIN:STANDARD
TZOFFSETFROM:-0400
TZOFFSETTO:-0500
TZNAME:EST
DTSTART:20261101T060000
END:STANDARD
BEGIN:DAYLIGHT
TZOFFSETFROM:-0500
TZOFFSETTO:-0400
TZNAME:EDT
DTSTART:20270314T070000
END:DAYLIGHT
BEGIN:STANDARD
TZOFFSETFROM:-0400
TZOFFSETTO:-0500
TZNAME:EST
DTSTART:20271107T060000
END:STANDARD
END:VTIMEZONE
BEGIN:VEVENT
DTSTART;TZID=America/New_York:20261026T080000
DTEND;TZID=America/New_York:20261026T083000
DTSTAMP:20260425T174946
CREATED:20240823T163430Z
LAST-MODIFIED:20240830T144628Z
UID:10002627-1793001600-1793003400@diovermont.org
SUMMARY:Morning Prayer with Green Mountain Abbey
DESCRIPTION:The Green Mountain Online Abbey provides a daily offering of online prayer at 8:00 a.m. and 8:00 p.m. Monday through Saturday and 8:00 p.m. Sunday. \nPlease visit the Green Mountain Online Abbey page for more information including call-in instructions and bulletin downloads.
URL:https://diovermont.org/event/morning-prayer-with-green-mountain-abbey/2026-10-26/
LOCATION:Online
CATEGORIES:Green Mountain Online Abbey
ATTACH;FMTTYPE=image/png:https://diovermont.org/wp-content/uploads/2021/01/Screen-Shot-2021-01-07-at-3.40.48-PM.png
END:VEVENT
BEGIN:VEVENT
DTSTART;TZID=America/New_York:20261027T080000
DTEND;TZID=America/New_York:20261027T083000
DTSTAMP:20260425T174946
CREATED:20240823T163430Z
LAST-MODIFIED:20240830T144628Z
UID:10002628-1793088000-1793089800@diovermont.org
SUMMARY:Morning Prayer with Green Mountain Abbey
DESCRIPTION:The Green Mountain Online Abbey provides a daily offering of online prayer at 8:00 a.m. and 8:00 p.m. Monday through Saturday and 8:00 p.m. Sunday. \nPlease visit the Green Mountain Online Abbey page for more information including call-in instructions and bulletin downloads.
URL:https://diovermont.org/event/morning-prayer-with-green-mountain-abbey/2026-10-27/
LOCATION:Online
CATEGORIES:Green Mountain Online Abbey
ATTACH;FMTTYPE=image/png:https://diovermont.org/wp-content/uploads/2021/01/Screen-Shot-2021-01-07-at-3.40.48-PM.png
END:VEVENT
BEGIN:VEVENT
DTSTART;TZID=America/New_York:20261028T080000
DTEND;TZID=America/New_York:20261028T083000
DTSTAMP:20260425T174946
CREATED:20240823T163430Z
LAST-MODIFIED:20240830T144628Z
UID:10002629-1793174400-1793176200@diovermont.org
SUMMARY:Morning Prayer with Green Mountain Abbey
DESCRIPTION:The Green Mountain Online Abbey provides a daily offering of online prayer at 8:00 a.m. and 8:00 p.m. Monday through Saturday and 8:00 p.m. Sunday. \nPlease visit the Green Mountain Online Abbey page for more information including call-in instructions and bulletin downloads.
URL:https://diovermont.org/event/morning-prayer-with-green-mountain-abbey/2026-10-28/
LOCATION:Online
CATEGORIES:Green Mountain Online Abbey
ATTACH;FMTTYPE=image/png:https://diovermont.org/wp-content/uploads/2021/01/Screen-Shot-2021-01-07-at-3.40.48-PM.png
END:VEVENT
BEGIN:VEVENT
DTSTART;TZID=America/New_York:20261029T080000
DTEND;TZID=America/New_York:20261029T083000
DTSTAMP:20260425T174946
CREATED:20240823T163430Z
LAST-MODIFIED:20240830T144628Z
UID:10002630-1793260800-1793262600@diovermont.org
SUMMARY:Morning Prayer with Green Mountain Abbey
DESCRIPTION:The Green Mountain Online Abbey provides a daily offering of online prayer at 8:00 a.m. and 8:00 p.m. Monday through Saturday and 8:00 p.m. Sunday. \nPlease visit the Green Mountain Online Abbey page for more information including call-in instructions and bulletin downloads.
URL:https://diovermont.org/event/morning-prayer-with-green-mountain-abbey/2026-10-29/
LOCATION:Online
CATEGORIES:Green Mountain Online Abbey
ATTACH;FMTTYPE=image/png:https://diovermont.org/wp-content/uploads/2021/01/Screen-Shot-2021-01-07-at-3.40.48-PM.png
END:VEVENT
BEGIN:VEVENT
DTSTART;TZID=America/New_York:20261030T080000
DTEND;TZID=America/New_York:20261030T083000
DTSTAMP:20260425T174946
CREATED:20240823T163430Z
LAST-MODIFIED:20240830T144628Z
UID:10002631-1793347200-1793349000@diovermont.org
SUMMARY:Morning Prayer with Green Mountain Abbey
DESCRIPTION:The Green Mountain Online Abbey provides a daily offering of online prayer at 8:00 a.m. and 8:00 p.m. Monday through Saturday and 8:00 p.m. Sunday. \nPlease visit the Green Mountain Online Abbey page for more information including call-in instructions and bulletin downloads.
URL:https://diovermont.org/event/morning-prayer-with-green-mountain-abbey/2026-10-30/
LOCATION:Online
CATEGORIES:Green Mountain Online Abbey
ATTACH;FMTTYPE=image/png:https://diovermont.org/wp-content/uploads/2021/01/Screen-Shot-2021-01-07-at-3.40.48-PM.png
END:VEVENT
BEGIN:VEVENT
DTSTART;TZID=America/New_York:20261031T080000
DTEND;TZID=America/New_York:20261031T083000
DTSTAMP:20260425T174946
CREATED:20240823T163430Z
LAST-MODIFIED:20240830T144628Z
UID:10002632-1793433600-1793435400@diovermont.org
SUMMARY:Morning Prayer with Green Mountain Abbey
DESCRIPTION:The Green Mountain Online Abbey provides a daily offering of online prayer at 8:00 a.m. and 8:00 p.m. Monday through Saturday and 8:00 p.m. Sunday. \nPlease visit the Green Mountain Online Abbey page for more information including call-in instructions and bulletin downloads.
URL:https://diovermont.org/event/morning-prayer-with-green-mountain-abbey/2026-10-31/
LOCATION:Online
CATEGORIES:Green Mountain Online Abbey
ATTACH;FMTTYPE=image/png:https://diovermont.org/wp-content/uploads/2021/01/Screen-Shot-2021-01-07-at-3.40.48-PM.png
END:VEVENT
BEGIN:VEVENT
DTSTART;TZID=America/New_York:20261102T080000
DTEND;TZID=America/New_York:20261102T083000
DTSTAMP:20260425T174946
CREATED:20240823T163430Z
LAST-MODIFIED:20240830T144628Z
UID:10002633-1793606400-1793608200@diovermont.org
SUMMARY:Morning Prayer with Green Mountain Abbey
DESCRIPTION:The Green Mountain Online Abbey provides a daily offering of online prayer at 8:00 a.m. and 8:00 p.m. Monday through Saturday and 8:00 p.m. Sunday. \nPlease visit the Green Mountain Online Abbey page for more information including call-in instructions and bulletin downloads.
URL:https://diovermont.org/event/morning-prayer-with-green-mountain-abbey/2026-11-02/
LOCATION:Online
CATEGORIES:Green Mountain Online Abbey
ATTACH;FMTTYPE=image/png:https://diovermont.org/wp-content/uploads/2021/01/Screen-Shot-2021-01-07-at-3.40.48-PM.png
END:VEVENT
BEGIN:VEVENT
DTSTART;TZID=America/New_York:20261103T080000
DTEND;TZID=America/New_York:20261103T083000
DTSTAMP:20260425T174946
CREATED:20240823T163430Z
LAST-MODIFIED:20240830T144628Z
UID:10002634-1793692800-1793694600@diovermont.org
SUMMARY:Morning Prayer with Green Mountain Abbey
DESCRIPTION:The Green Mountain Online Abbey provides a daily offering of online prayer at 8:00 a.m. and 8:00 p.m. Monday through Saturday and 8:00 p.m. Sunday. \nPlease visit the Green Mountain Online Abbey page for more information including call-in instructions and bulletin downloads.
URL:https://diovermont.org/event/morning-prayer-with-green-mountain-abbey/2026-11-03/
LOCATION:Online
CATEGORIES:Green Mountain Online Abbey
ATTACH;FMTTYPE=image/png:https://diovermont.org/wp-content/uploads/2021/01/Screen-Shot-2021-01-07-at-3.40.48-PM.png
END:VEVENT
BEGIN:VEVENT
DTSTART;TZID=America/New_York:20261104T080000
DTEND;TZID=America/New_York:20261104T083000
DTSTAMP:20260425T174946
CREATED:20240823T163430Z
LAST-MODIFIED:20240830T144628Z
UID:10002635-1793779200-1793781000@diovermont.org
SUMMARY:Morning Prayer with Green Mountain Abbey
DESCRIPTION:The Green Mountain Online Abbey provides a daily offering of online prayer at 8:00 a.m. and 8:00 p.m. Monday through Saturday and 8:00 p.m. Sunday. \nPlease visit the Green Mountain Online Abbey page for more information including call-in instructions and bulletin downloads.
URL:https://diovermont.org/event/morning-prayer-with-green-mountain-abbey/2026-11-04/
LOCATION:Online
CATEGORIES:Green Mountain Online Abbey
ATTACH;FMTTYPE=image/png:https://diovermont.org/wp-content/uploads/2021/01/Screen-Shot-2021-01-07-at-3.40.48-PM.png
END:VEVENT
BEGIN:VEVENT
DTSTART;TZID=America/New_York:20261105T080000
DTEND;TZID=America/New_York:20261105T083000
DTSTAMP:20260425T174946
CREATED:20240823T163430Z
LAST-MODIFIED:20240830T144628Z
UID:10002636-1793865600-1793867400@diovermont.org
SUMMARY:Morning Prayer with Green Mountain Abbey
DESCRIPTION:The Green Mountain Online Abbey provides a daily offering of online prayer at 8:00 a.m. and 8:00 p.m. Monday through Saturday and 8:00 p.m. Sunday. \nPlease visit the Green Mountain Online Abbey page for more information including call-in instructions and bulletin downloads.
URL:https://diovermont.org/event/morning-prayer-with-green-mountain-abbey/2026-11-05/
LOCATION:Online
CATEGORIES:Green Mountain Online Abbey
ATTACH;FMTTYPE=image/png:https://diovermont.org/wp-content/uploads/2021/01/Screen-Shot-2021-01-07-at-3.40.48-PM.png
END:VEVENT
BEGIN:VEVENT
DTSTART;TZID=America/New_York:20261106T080000
DTEND;TZID=America/New_York:20261106T083000
DTSTAMP:20260425T174946
CREATED:20240823T163430Z
LAST-MODIFIED:20240830T144628Z
UID:10002637-1793952000-1793953800@diovermont.org
SUMMARY:Morning Prayer with Green Mountain Abbey
DESCRIPTION:The Green Mountain Online Abbey provides a daily offering of online prayer at 8:00 a.m. and 8:00 p.m. Monday through Saturday and 8:00 p.m. Sunday. \nPlease visit the Green Mountain Online Abbey page for more information including call-in instructions and bulletin downloads.
URL:https://diovermont.org/event/morning-prayer-with-green-mountain-abbey/2026-11-06/
LOCATION:Online
CATEGORIES:Green Mountain Online Abbey
ATTACH;FMTTYPE=image/png:https://diovermont.org/wp-content/uploads/2021/01/Screen-Shot-2021-01-07-at-3.40.48-PM.png
END:VEVENT
BEGIN:VEVENT
DTSTART;TZID=America/New_York:20261107T080000
DTEND;TZID=America/New_York:20261107T083000
DTSTAMP:20260425T174946
CREATED:20240823T163430Z
LAST-MODIFIED:20240830T144628Z
UID:10002638-1794038400-1794040200@diovermont.org
SUMMARY:Morning Prayer with Green Mountain Abbey
DESCRIPTION:The Green Mountain Online Abbey provides a daily offering of online prayer at 8:00 a.m. and 8:00 p.m. Monday through Saturday and 8:00 p.m. Sunday. \nPlease visit the Green Mountain Online Abbey page for more information including call-in instructions and bulletin downloads.
URL:https://diovermont.org/event/morning-prayer-with-green-mountain-abbey/2026-11-07/
LOCATION:Online
CATEGORIES:Green Mountain Online Abbey
ATTACH;FMTTYPE=image/png:https://diovermont.org/wp-content/uploads/2021/01/Screen-Shot-2021-01-07-at-3.40.48-PM.png
END:VEVENT
BEGIN:VEVENT
DTSTART;TZID=America/New_York:20261109T080000
DTEND;TZID=America/New_York:20261109T083000
DTSTAMP:20260425T174946
CREATED:20240823T163430Z
LAST-MODIFIED:20240830T144628Z
UID:10002639-1794211200-1794213000@diovermont.org
SUMMARY:Morning Prayer with Green Mountain Abbey
DESCRIPTION:The Green Mountain Online Abbey provides a daily offering of online prayer at 8:00 a.m. and 8:00 p.m. Monday through Saturday and 8:00 p.m. Sunday. \nPlease visit the Green Mountain Online Abbey page for more information including call-in instructions and bulletin downloads.
URL:https://diovermont.org/event/morning-prayer-with-green-mountain-abbey/2026-11-09/
LOCATION:Online
CATEGORIES:Green Mountain Online Abbey
ATTACH;FMTTYPE=image/png:https://diovermont.org/wp-content/uploads/2021/01/Screen-Shot-2021-01-07-at-3.40.48-PM.png
END:VEVENT
BEGIN:VEVENT
DTSTART;TZID=America/New_York:20261110T080000
DTEND;TZID=America/New_York:20261110T083000
DTSTAMP:20260425T174946
CREATED:20240823T163430Z
LAST-MODIFIED:20240830T144628Z
UID:10002640-1794297600-1794299400@diovermont.org
SUMMARY:Morning Prayer with Green Mountain Abbey
DESCRIPTION:The Green Mountain Online Abbey provides a daily offering of online prayer at 8:00 a.m. and 8:00 p.m. Monday through Saturday and 8:00 p.m. Sunday. \nPlease visit the Green Mountain Online Abbey page for more information including call-in instructions and bulletin downloads.
URL:https://diovermont.org/event/morning-prayer-with-green-mountain-abbey/2026-11-10/
LOCATION:Online
CATEGORIES:Green Mountain Online Abbey
ATTACH;FMTTYPE=image/png:https://diovermont.org/wp-content/uploads/2021/01/Screen-Shot-2021-01-07-at-3.40.48-PM.png
END:VEVENT
BEGIN:VEVENT
DTSTART;TZID=America/New_York:20261111T080000
DTEND;TZID=America/New_York:20261111T083000
DTSTAMP:20260425T174946
CREATED:20240823T163430Z
LAST-MODIFIED:20240830T144628Z
UID:10002641-1794384000-1794385800@diovermont.org
SUMMARY:Morning Prayer with Green Mountain Abbey
DESCRIPTION:The Green Mountain Online Abbey provides a daily offering of online prayer at 8:00 a.m. and 8:00 p.m. Monday through Saturday and 8:00 p.m. Sunday. \nPlease visit the Green Mountain Online Abbey page for more information including call-in instructions and bulletin downloads.
URL:https://diovermont.org/event/morning-prayer-with-green-mountain-abbey/2026-11-11/
LOCATION:Online
CATEGORIES:Green Mountain Online Abbey
ATTACH;FMTTYPE=image/png:https://diovermont.org/wp-content/uploads/2021/01/Screen-Shot-2021-01-07-at-3.40.48-PM.png
END:VEVENT
BEGIN:VEVENT
DTSTART;TZID=America/New_York:20261112T080000
DTEND;TZID=America/New_York:20261112T083000
DTSTAMP:20260425T174946
CREATED:20240823T163430Z
LAST-MODIFIED:20240830T144628Z
UID:10002642-1794470400-1794472200@diovermont.org
SUMMARY:Morning Prayer with Green Mountain Abbey
DESCRIPTION:The Green Mountain Online Abbey provides a daily offering of online prayer at 8:00 a.m. and 8:00 p.m. Monday through Saturday and 8:00 p.m. Sunday. \nPlease visit the Green Mountain Online Abbey page for more information including call-in instructions and bulletin downloads.
URL:https://diovermont.org/event/morning-prayer-with-green-mountain-abbey/2026-11-12/
LOCATION:Online
CATEGORIES:Green Mountain Online Abbey
ATTACH;FMTTYPE=image/png:https://diovermont.org/wp-content/uploads/2021/01/Screen-Shot-2021-01-07-at-3.40.48-PM.png
END:VEVENT
BEGIN:VEVENT
DTSTART;TZID=America/New_York:20261113T080000
DTEND;TZID=America/New_York:20261113T083000
DTSTAMP:20260425T174946
CREATED:20240823T163430Z
LAST-MODIFIED:20240830T144628Z
UID:10002643-1794556800-1794558600@diovermont.org
SUMMARY:Morning Prayer with Green Mountain Abbey
DESCRIPTION:The Green Mountain Online Abbey provides a daily offering of online prayer at 8:00 a.m. and 8:00 p.m. Monday through Saturday and 8:00 p.m. Sunday. \nPlease visit the Green Mountain Online Abbey page for more information including call-in instructions and bulletin downloads.
URL:https://diovermont.org/event/morning-prayer-with-green-mountain-abbey/2026-11-13/
LOCATION:Online
CATEGORIES:Green Mountain Online Abbey
ATTACH;FMTTYPE=image/png:https://diovermont.org/wp-content/uploads/2021/01/Screen-Shot-2021-01-07-at-3.40.48-PM.png
END:VEVENT
BEGIN:VEVENT
DTSTART;TZID=America/New_York:20261114T080000
DTEND;TZID=America/New_York:20261114T083000
DTSTAMP:20260425T174946
CREATED:20240823T163430Z
LAST-MODIFIED:20240830T144628Z
UID:10002644-1794643200-1794645000@diovermont.org
SUMMARY:Morning Prayer with Green Mountain Abbey
DESCRIPTION:The Green Mountain Online Abbey provides a daily offering of online prayer at 8:00 a.m. and 8:00 p.m. Monday through Saturday and 8:00 p.m. Sunday. \nPlease visit the Green Mountain Online Abbey page for more information including call-in instructions and bulletin downloads.
URL:https://diovermont.org/event/morning-prayer-with-green-mountain-abbey/2026-11-14/
LOCATION:Online
CATEGORIES:Green Mountain Online Abbey
ATTACH;FMTTYPE=image/png:https://diovermont.org/wp-content/uploads/2021/01/Screen-Shot-2021-01-07-at-3.40.48-PM.png
END:VEVENT
BEGIN:VEVENT
DTSTART;TZID=America/New_York:20261116T080000
DTEND;TZID=America/New_York:20261116T083000
DTSTAMP:20260425T174946
CREATED:20240823T163430Z
LAST-MODIFIED:20240830T144628Z
UID:10002645-1794816000-1794817800@diovermont.org
SUMMARY:Morning Prayer with Green Mountain Abbey
DESCRIPTION:The Green Mountain Online Abbey provides a daily offering of online prayer at 8:00 a.m. and 8:00 p.m. Monday through Saturday and 8:00 p.m. Sunday. \nPlease visit the Green Mountain Online Abbey page for more information including call-in instructions and bulletin downloads.
URL:https://diovermont.org/event/morning-prayer-with-green-mountain-abbey/2026-11-16/
LOCATION:Online
CATEGORIES:Green Mountain Online Abbey
ATTACH;FMTTYPE=image/png:https://diovermont.org/wp-content/uploads/2021/01/Screen-Shot-2021-01-07-at-3.40.48-PM.png
END:VEVENT
BEGIN:VEVENT
DTSTART;TZID=America/New_York:20261117T080000
DTEND;TZID=America/New_York:20261117T083000
DTSTAMP:20260425T174946
CREATED:20240823T163430Z
LAST-MODIFIED:20240830T144628Z
UID:10002646-1794902400-1794904200@diovermont.org
SUMMARY:Morning Prayer with Green Mountain Abbey
DESCRIPTION:The Green Mountain Online Abbey provides a daily offering of online prayer at 8:00 a.m. and 8:00 p.m. Monday through Saturday and 8:00 p.m. Sunday. \nPlease visit the Green Mountain Online Abbey page for more information including call-in instructions and bulletin downloads.
URL:https://diovermont.org/event/morning-prayer-with-green-mountain-abbey/2026-11-17/
LOCATION:Online
CATEGORIES:Green Mountain Online Abbey
ATTACH;FMTTYPE=image/png:https://diovermont.org/wp-content/uploads/2021/01/Screen-Shot-2021-01-07-at-3.40.48-PM.png
END:VEVENT
BEGIN:VEVENT
DTSTART;TZID=America/New_York:20261118T080000
DTEND;TZID=America/New_York:20261118T083000
DTSTAMP:20260425T174946
CREATED:20240823T163430Z
LAST-MODIFIED:20240830T144628Z
UID:10002647-1794988800-1794990600@diovermont.org
SUMMARY:Morning Prayer with Green Mountain Abbey
DESCRIPTION:The Green Mountain Online Abbey provides a daily offering of online prayer at 8:00 a.m. and 8:00 p.m. Monday through Saturday and 8:00 p.m. Sunday. \nPlease visit the Green Mountain Online Abbey page for more information including call-in instructions and bulletin downloads.
URL:https://diovermont.org/event/morning-prayer-with-green-mountain-abbey/2026-11-18/
LOCATION:Online
CATEGORIES:Green Mountain Online Abbey
ATTACH;FMTTYPE=image/png:https://diovermont.org/wp-content/uploads/2021/01/Screen-Shot-2021-01-07-at-3.40.48-PM.png
END:VEVENT
BEGIN:VEVENT
DTSTART;TZID=America/New_York:20261119T080000
DTEND;TZID=America/New_York:20261119T083000
DTSTAMP:20260425T174946
CREATED:20240823T163430Z
LAST-MODIFIED:20240830T144628Z
UID:10002648-1795075200-1795077000@diovermont.org
SUMMARY:Morning Prayer with Green Mountain Abbey
DESCRIPTION:The Green Mountain Online Abbey provides a daily offering of online prayer at 8:00 a.m. and 8:00 p.m. Monday through Saturday and 8:00 p.m. Sunday. \nPlease visit the Green Mountain Online Abbey page for more information including call-in instructions and bulletin downloads.
URL:https://diovermont.org/event/morning-prayer-with-green-mountain-abbey/2026-11-19/
LOCATION:Online
CATEGORIES:Green Mountain Online Abbey
ATTACH;FMTTYPE=image/png:https://diovermont.org/wp-content/uploads/2021/01/Screen-Shot-2021-01-07-at-3.40.48-PM.png
END:VEVENT
BEGIN:VEVENT
DTSTART;TZID=America/New_York:20261120T080000
DTEND;TZID=America/New_York:20261120T083000
DTSTAMP:20260425T174946
CREATED:20240823T163430Z
LAST-MODIFIED:20240830T144628Z
UID:10002649-1795161600-1795163400@diovermont.org
SUMMARY:Morning Prayer with Green Mountain Abbey
DESCRIPTION:The Green Mountain Online Abbey provides a daily offering of online prayer at 8:00 a.m. and 8:00 p.m. Monday through Saturday and 8:00 p.m. Sunday. \nPlease visit the Green Mountain Online Abbey page for more information including call-in instructions and bulletin downloads.
URL:https://diovermont.org/event/morning-prayer-with-green-mountain-abbey/2026-11-20/
LOCATION:Online
CATEGORIES:Green Mountain Online Abbey
ATTACH;FMTTYPE=image/png:https://diovermont.org/wp-content/uploads/2021/01/Screen-Shot-2021-01-07-at-3.40.48-PM.png
END:VEVENT
BEGIN:VEVENT
DTSTART;TZID=America/New_York:20261121T080000
DTEND;TZID=America/New_York:20261121T083000
DTSTAMP:20260425T174946
CREATED:20240823T163430Z
LAST-MODIFIED:20240830T144628Z
UID:10002650-1795248000-1795249800@diovermont.org
SUMMARY:Morning Prayer with Green Mountain Abbey
DESCRIPTION:The Green Mountain Online Abbey provides a daily offering of online prayer at 8:00 a.m. and 8:00 p.m. Monday through Saturday and 8:00 p.m. Sunday. \nPlease visit the Green Mountain Online Abbey page for more information including call-in instructions and bulletin downloads.
URL:https://diovermont.org/event/morning-prayer-with-green-mountain-abbey/2026-11-21/
LOCATION:Online
CATEGORIES:Green Mountain Online Abbey
ATTACH;FMTTYPE=image/png:https://diovermont.org/wp-content/uploads/2021/01/Screen-Shot-2021-01-07-at-3.40.48-PM.png
END:VEVENT
BEGIN:VEVENT
DTSTART;TZID=America/New_York:20261123T080000
DTEND;TZID=America/New_York:20261123T083000
DTSTAMP:20260425T174946
CREATED:20240823T163430Z
LAST-MODIFIED:20240830T144628Z
UID:10002651-1795420800-1795422600@diovermont.org
SUMMARY:Morning Prayer with Green Mountain Abbey
DESCRIPTION:The Green Mountain Online Abbey provides a daily offering of online prayer at 8:00 a.m. and 8:00 p.m. Monday through Saturday and 8:00 p.m. Sunday. \nPlease visit the Green Mountain Online Abbey page for more information including call-in instructions and bulletin downloads.
URL:https://diovermont.org/event/morning-prayer-with-green-mountain-abbey/2026-11-23/
LOCATION:Online
CATEGORIES:Green Mountain Online Abbey
ATTACH;FMTTYPE=image/png:https://diovermont.org/wp-content/uploads/2021/01/Screen-Shot-2021-01-07-at-3.40.48-PM.png
END:VEVENT
BEGIN:VEVENT
DTSTART;TZID=America/New_York:20261124T080000
DTEND;TZID=America/New_York:20261124T083000
DTSTAMP:20260425T174946
CREATED:20240823T163430Z
LAST-MODIFIED:20240830T144628Z
UID:10002652-1795507200-1795509000@diovermont.org
SUMMARY:Morning Prayer with Green Mountain Abbey
DESCRIPTION:The Green Mountain Online Abbey provides a daily offering of online prayer at 8:00 a.m. and 8:00 p.m. Monday through Saturday and 8:00 p.m. Sunday. \nPlease visit the Green Mountain Online Abbey page for more information including call-in instructions and bulletin downloads.
URL:https://diovermont.org/event/morning-prayer-with-green-mountain-abbey/2026-11-24/
LOCATION:Online
CATEGORIES:Green Mountain Online Abbey
ATTACH;FMTTYPE=image/png:https://diovermont.org/wp-content/uploads/2021/01/Screen-Shot-2021-01-07-at-3.40.48-PM.png
END:VEVENT
BEGIN:VEVENT
DTSTART;TZID=America/New_York:20261125T080000
DTEND;TZID=America/New_York:20261125T083000
DTSTAMP:20260425T174946
CREATED:20240823T163430Z
LAST-MODIFIED:20240830T144628Z
UID:10002653-1795593600-1795595400@diovermont.org
SUMMARY:Morning Prayer with Green Mountain Abbey
DESCRIPTION:The Green Mountain Online Abbey provides a daily offering of online prayer at 8:00 a.m. and 8:00 p.m. Monday through Saturday and 8:00 p.m. Sunday. \nPlease visit the Green Mountain Online Abbey page for more information including call-in instructions and bulletin downloads.
URL:https://diovermont.org/event/morning-prayer-with-green-mountain-abbey/2026-11-25/
LOCATION:Online
CATEGORIES:Green Mountain Online Abbey
ATTACH;FMTTYPE=image/png:https://diovermont.org/wp-content/uploads/2021/01/Screen-Shot-2021-01-07-at-3.40.48-PM.png
END:VEVENT
BEGIN:VEVENT
DTSTART;TZID=America/New_York:20261126T080000
DTEND;TZID=America/New_York:20261126T083000
DTSTAMP:20260425T174946
CREATED:20240823T163430Z
LAST-MODIFIED:20240830T144628Z
UID:10002654-1795680000-1795681800@diovermont.org
SUMMARY:Morning Prayer with Green Mountain Abbey
DESCRIPTION:The Green Mountain Online Abbey provides a daily offering of online prayer at 8:00 a.m. and 8:00 p.m. Monday through Saturday and 8:00 p.m. Sunday. \nPlease visit the Green Mountain Online Abbey page for more information including call-in instructions and bulletin downloads.
URL:https://diovermont.org/event/morning-prayer-with-green-mountain-abbey/2026-11-26/
LOCATION:Online
CATEGORIES:Green Mountain Online Abbey
ATTACH;FMTTYPE=image/png:https://diovermont.org/wp-content/uploads/2021/01/Screen-Shot-2021-01-07-at-3.40.48-PM.png
END:VEVENT
BEGIN:VEVENT
DTSTART;TZID=America/New_York:20261127T080000
DTEND;TZID=America/New_York:20261127T083000
DTSTAMP:20260425T174946
CREATED:20240823T163430Z
LAST-MODIFIED:20240830T144628Z
UID:10002655-1795766400-1795768200@diovermont.org
SUMMARY:Morning Prayer with Green Mountain Abbey
DESCRIPTION:The Green Mountain Online Abbey provides a daily offering of online prayer at 8:00 a.m. and 8:00 p.m. Monday through Saturday and 8:00 p.m. Sunday. \nPlease visit the Green Mountain Online Abbey page for more information including call-in instructions and bulletin downloads.
URL:https://diovermont.org/event/morning-prayer-with-green-mountain-abbey/2026-11-27/
LOCATION:Online
CATEGORIES:Green Mountain Online Abbey
ATTACH;FMTTYPE=image/png:https://diovermont.org/wp-content/uploads/2021/01/Screen-Shot-2021-01-07-at-3.40.48-PM.png
END:VEVENT
BEGIN:VEVENT
DTSTART;TZID=America/New_York:20261128T080000
DTEND;TZID=America/New_York:20261128T083000
DTSTAMP:20260425T174946
CREATED:20240823T163430Z
LAST-MODIFIED:20240830T144628Z
UID:10002656-1795852800-1795854600@diovermont.org
SUMMARY:Morning Prayer with Green Mountain Abbey
DESCRIPTION:The Green Mountain Online Abbey provides a daily offering of online prayer at 8:00 a.m. and 8:00 p.m. Monday through Saturday and 8:00 p.m. Sunday. \nPlease visit the Green Mountain Online Abbey page for more information including call-in instructions and bulletin downloads.
URL:https://diovermont.org/event/morning-prayer-with-green-mountain-abbey/2026-11-28/
LOCATION:Online
CATEGORIES:Green Mountain Online Abbey
ATTACH;FMTTYPE=image/png:https://diovermont.org/wp-content/uploads/2021/01/Screen-Shot-2021-01-07-at-3.40.48-PM.png
END:VEVENT
END:VCALENDAR