BEGIN:VCALENDAR
VERSION:2.0
PRODID:-//Episcopal Diocese of Vermont - ECPv6.15.20//NONSGML v1.0//EN
CALSCALE:GREGORIAN
METHOD:PUBLISH
X-ORIGINAL-URL:https://diovermont.org
X-WR-CALDESC:Events for Episcopal Diocese of Vermont
REFRESH-INTERVAL;VALUE=DURATION:PT1H
X-Robots-Tag:noindex
X-PUBLISHED-TTL:PT1H
BEGIN:VTIMEZONE
TZID:America/New_York
BEGIN:DAYLIGHT
TZOFFSETFROM:-0500
TZOFFSETTO:-0400
TZNAME:EDT
DTSTART:20240310T070000
END:DAYLIGHT
BEGIN:STANDARD
TZOFFSETFROM:-0400
TZOFFSETTO:-0500
TZNAME:EST
DTSTART:20241103T060000
END:STANDARD
BEGIN:DAYLIGHT
TZOFFSETFROM:-0500
TZOFFSETTO:-0400
TZNAME:EDT
DTSTART:20250309T070000
END:DAYLIGHT
BEGIN:STANDARD
TZOFFSETFROM:-0400
TZOFFSETTO:-0500
TZNAME:EST
DTSTART:20251102T060000
END:STANDARD
BEGIN:DAYLIGHT
TZOFFSETFROM:-0500
TZOFFSETTO:-0400
TZNAME:EDT
DTSTART:20260308T070000
END:DAYLIGHT
BEGIN:STANDARD
TZOFFSETFROM:-0400
TZOFFSETTO:-0500
TZNAME:EST
DTSTART:20261101T060000
END:STANDARD
END:VTIMEZONE
BEGIN:VEVENT
DTSTART;TZID=America/New_York:20251001T110000
DTEND;TZID=America/New_York:20251001T150000
DTSTAMP:20260420T041331
CREATED:20250918T132633Z
LAST-MODIFIED:20250918T132723Z
UID:10003675-1759316400-1759330800@diovermont.org
SUMMARY:Clergy Meeting
DESCRIPTION:Canonically resident clergy will gather in person at St. John’s\, Randolph.
URL:https://diovermont.org/event/clergy-meeting/
LOCATION:St. John’s\, Randolph\, 15 Summer St.\, Randolph\, 05060\, United States
END:VEVENT
BEGIN:VEVENT
DTSTART;TZID=America/New_York:20250927T110000
DTEND;TZID=America/New_York:20250927T150000
DTSTAMP:20260420T041331
CREATED:20250904T143623Z
LAST-MODIFIED:20250904T143639Z
UID:10003556-1758970800-1758985200@diovermont.org
SUMMARY:Constellation Network Meeting
DESCRIPTION:The Constellation Network will convene in-person at St. John’s\, Randolph to discuss their unique ministries.
URL:https://diovermont.org/event/constellation-network-meeting/
LOCATION:St. John’s\, Randolph\, 15 Summer St.\, Randolph\, 05060\, United States
END:VEVENT
END:VCALENDAR